BEGIN:VCALENDAR
VERSION:2.0
PRODID:-//needlehook - ECPv6.15.15//NONSGML v1.0//EN
CALSCALE:GREGORIAN
METHOD:PUBLISH
X-ORIGINAL-URL:https://www.needlehook.com
X-WR-CALDESC:Events for needlehook
REFRESH-INTERVAL;VALUE=DURATION:PT1H
X-Robots-Tag:noindex
X-PUBLISHED-TTL:PT1H
BEGIN:VTIMEZONE
TZID:America/Los_Angeles
BEGIN:DAYLIGHT
TZOFFSETFROM:-0800
TZOFFSETTO:-0700
TZNAME:PDT
DTSTART:20240310T100000
END:DAYLIGHT
BEGIN:STANDARD
TZOFFSETFROM:-0700
TZOFFSETTO:-0800
TZNAME:PST
DTSTART:20241103T090000
END:STANDARD
BEGIN:DAYLIGHT
TZOFFSETFROM:-0800
TZOFFSETTO:-0700
TZNAME:PDT
DTSTART:20250309T100000
END:DAYLIGHT
BEGIN:STANDARD
TZOFFSETFROM:-0700
TZOFFSETTO:-0800
TZNAME:PST
DTSTART:20251102T090000
END:STANDARD
BEGIN:DAYLIGHT
TZOFFSETFROM:-0800
TZOFFSETTO:-0700
TZNAME:PDT
DTSTART:20260308T100000
END:DAYLIGHT
BEGIN:STANDARD
TZOFFSETFROM:-0700
TZOFFSETTO:-0800
TZNAME:PST
DTSTART:20261101T090000
END:STANDARD
BEGIN:DAYLIGHT
TZOFFSETFROM:-0800
TZOFFSETTO:-0700
TZNAME:PDT
DTSTART:20270314T100000
END:DAYLIGHT
BEGIN:STANDARD
TZOFFSETFROM:-0700
TZOFFSETTO:-0800
TZNAME:PST
DTSTART:20271107T090000
END:STANDARD
END:VTIMEZONE
BEGIN:VEVENT
DTSTART;TZID=America/Los_Angeles:20260424T170000
DTEND;TZID=America/Los_Angeles:20260424T180000
DTSTAMP:20260425T045121
CREATED:20250911T053603Z
LAST-MODIFIED:20250911T053603Z
UID:10021074-1777050000-1777053600@www.needlehook.com
SUMMARY:Free Beginner Crochet Class
DESCRIPTION:If you would like to get your crochet on\, please drop by for one of our free classes. Hooks and yarns for class are available for purchase at our store — or feel free to bring your own. \nIf you already know how to crochet\, but have questions about your project that you would like some assistance with\, feel free to stop by as well!
URL:https://www.needlehook.com/event/free-beginner-crochet-class/2026-04-24/
LOCATION:Northwest Yarns & Mercantile\, Bellingham\, WA\, 98225
CATEGORIES:Crochet
ATTACH;FMTTYPE=image/webp:https://www.needlehook.com/wp-content/uploads/2025/09/1714770919699_zmvp4fpr.jpg.webp
END:VEVENT
BEGIN:VEVENT
DTSTART;TZID=America/Los_Angeles:20260411T103000
DTEND;TZID=America/Los_Angeles:20260411T123000
DTSTAMP:20260425T045121
CREATED:20260206T062904Z
LAST-MODIFIED:20260206T063153Z
UID:10022092-1775903400-1775910600@www.needlehook.com
SUMMARY:Crochet Basics
DESCRIPTION:Whether you’ve never picked up a crochet hook or just can’t quite remember how\, this is the perfect class for you!
URL:https://www.needlehook.com/event/crochet-basics-6/
LOCATION:Needles & Hooks\, Lake Forest Park\, WA\, 98155
CATEGORIES:Crochet
ATTACH;FMTTYPE=image/jpeg:https://www.needlehook.com/wp-content/uploads/2026/02/Crochet_Basics_9b0d0194-0347-4ba7-b64c-6107eaed5c6c_1024x1024@2x-A2DjHW.jpg
END:VEVENT
BEGIN:VEVENT
DTSTART;TZID=America/Los_Angeles:20260405T150000
DTEND;TZID=America/Los_Angeles:20260405T170000
DTSTAMP:20260425T045121
CREATED:20260205T025606Z
LAST-MODIFIED:20260205T025606Z
UID:10022048-1775401200-1775408400@www.needlehook.com
SUMMARY:Beginning Crochet 101
DESCRIPTION:Are you looking for a place to begin your journey into the wonders of crochet?  This 3 session class covers the basics you will need to get started with crochet.  Students will learn the fundamentals of crochet; how to chain\, single crochet\, double crochet and half double crochet\, as well how to read simple patterns. Students will receive instruction\, washcloth patterns for class projects\, and quick tricks to help you learn crochet techniques.
URL:https://www.needlehook.com/event/beginning-crochet-101-5/
LOCATION:Acorn Street Shop\, Seattle\, WA\, 98105
CATEGORIES:Crochet
ATTACH;FMTTYPE=image/jpeg:https://www.needlehook.com/wp-content/uploads/2026/02/Crochet_Washcloth_All_Three_20230920164645-wx3Klq.jpg
END:VEVENT
BEGIN:VEVENT
DTSTART;TZID=America/Los_Angeles:20260403T110000
DTEND;TZID=America/Los_Angeles:20260403T133000
DTSTAMP:20260425T045121
CREATED:20260206T062901Z
LAST-MODIFIED:20260206T062901Z
UID:10022090-1775214000-1775223000@www.needlehook.com
SUMMARY:Crochet Basket
DESCRIPTION:In this two-part class\, you’ll learn a fun and practical way to use up leftover yarns from your projects by creating a lined crochet basket. Together we’ll make a small basket (approximately 3″ tall and 12″ around)\, and you’ll leave with the skills and techniques to confidently design larger baskets on your own.
URL:https://www.needlehook.com/event/crochet-basket/
LOCATION:La Mercerie\, Bainbridge Island\, WA\, 98110
CATEGORIES:Crochet
ATTACH;FMTTYPE=image/jpeg:https://www.needlehook.com/wp-content/uploads/2026/02/basketclass_1_1296x-vBgRYD.jpg
END:VEVENT
BEGIN:VEVENT
DTSTART;TZID=America/Los_Angeles:20260327T110000
DTEND;TZID=America/Los_Angeles:20260327T133000
DTSTAMP:20260425T045121
CREATED:20260206T062858Z
LAST-MODIFIED:20260206T062858Z
UID:10022088-1774609200-1774618200@www.needlehook.com
SUMMARY:Crochet Lavender
DESCRIPTION:In this 2.5 hour class\, you’ll learn how to crochet lavender flowers for your home\, decoration\, or as a handmade gift. No crochet experience is needed!
URL:https://www.needlehook.com/event/crochet-lavender/
LOCATION:La Mercerie\, Bainbridge Island\, WA\, 98110
CATEGORIES:Crochet
ATTACH;FMTTYPE=image/jpeg:https://www.needlehook.com/wp-content/uploads/2026/02/lavender_2_1296x-Z86jsf.jpg
END:VEVENT
BEGIN:VEVENT
DTSTART;TZID=America/Los_Angeles:20260314T103000
DTEND;TZID=America/Los_Angeles:20260314T123000
DTSTAMP:20260425T045121
CREATED:20260206T062903Z
LAST-MODIFIED:20260206T063136Z
UID:10022091-1773484200-1773491400@www.needlehook.com
SUMMARY:Crochet Basics
DESCRIPTION:Whether you’ve never picked up a crochet hook or just can’t quite remember how\, this is the perfect class for you!
URL:https://www.needlehook.com/event/crochet-basics-5/
LOCATION:Needles & Hooks\, Lake Forest Park\, WA\, 98155
CATEGORIES:Crochet
ATTACH;FMTTYPE=image/jpeg:https://www.needlehook.com/wp-content/uploads/2026/02/Crochet_Basics_9b0d0194-0347-4ba7-b64c-6107eaed5c6c_1024x1024@2x-wvUcNA.jpg
END:VEVENT
BEGIN:VEVENT
DTSTART;TZID=America/Los_Angeles:20260308T150000
DTEND;TZID=America/Los_Angeles:20260308T170000
DTSTAMP:20260425T045121
CREATED:20260205T025607Z
LAST-MODIFIED:20260205T025607Z
UID:10022047-1772982000-1772989200@www.needlehook.com
SUMMARY:Beginning Crochet 101
DESCRIPTION:Are you looking for a place to begin your journey into the wonders of crochet?  This 3 session class covers the basics you will need to get started with crochet.  Students will learn the fundamentals of crochet; how to chain\, single crochet\, double crochet and half double crochet\, as well how to read simple patterns. Students will receive instruction\, washcloth patterns for class projects\, and quick tricks to help you learn crochet techniques.
URL:https://www.needlehook.com/event/beginning-crochet-101-6/
LOCATION:Acorn Street Shop\, Seattle\, WA\, 98105
CATEGORIES:Crochet
ATTACH;FMTTYPE=image/jpeg:https://www.needlehook.com/wp-content/uploads/2026/02/Crochet_Washcloth_All_Three_20230920164645-PpBuNk.jpg
END:VEVENT
BEGIN:VEVENT
DTSTART;TZID=America/Los_Angeles:20260228T103000
DTEND;TZID=America/Los_Angeles:20260228T123000
DTSTAMP:20260425T045121
CREATED:20260206T062641Z
LAST-MODIFIED:20260206T062641Z
UID:10022073-1772274600-1772281800@www.needlehook.com
SUMMARY:St. Patrick’s Day Gnomes
DESCRIPTION:Top o’ the mornin’ to ye! Come get in the spirit of spring and create an adorable St. Patrick’s Day Gnome with us!
URL:https://www.needlehook.com/event/st-patricks-day-gnomes/
LOCATION:Fidalgo Artisan Yarn\, Anacortes\, WA\, 98221
CATEGORIES:Crochet
ATTACH;FMTTYPE=image/jpeg:https://www.needlehook.com/wp-content/uploads/2026/02/2026-2-Leprachaun-Gnome-Class-dw9F71.jpg
END:VEVENT
BEGIN:VEVENT
DTSTART;TZID=America/Los_Angeles:20260219T180000
DTEND;TZID=America/Los_Angeles:20260219T193000
DTSTAMP:20260425T045121
CREATED:20260206T062645Z
LAST-MODIFIED:20260206T062645Z
UID:10022076-1771524000-1771529400@www.needlehook.com
SUMMARY:Crochet: The Hooked on Basics Workshop
DESCRIPTION:Are you curious about crochet? Have you wanted to try to learn\, but you don’t know where to start?\nThen\, this class is perfect for you!
URL:https://www.needlehook.com/event/crochet-the-hooked-on-basics-workshop/
LOCATION:Heart2Heart Knitting and Fiber Arts\, Poulsbo\, WA\, 98370
CATEGORIES:Crochet
ATTACH;FMTTYPE=image/jpeg:https://www.needlehook.com/wp-content/uploads/2026/02/sddefault-N2609j.jpg
END:VEVENT
BEGIN:VEVENT
DTSTART;TZID=America/Los_Angeles:20260217T180000
DTEND;TZID=America/Los_Angeles:20260217T190000
DTSTAMP:20260425T045121
CREATED:20260206T062644Z
LAST-MODIFIED:20260206T062644Z
UID:10022075-1771351200-1771354800@www.needlehook.com
SUMMARY:The Afghan Stitch: Tunisian Crochet for Beginners
DESCRIPTION:Whether you’re completely new to crochet or just looking to improve your skills\, this class offers a comprehensive introduction to the craft of Tunisian Crochet.   With expert instruction\, a supportive environment\, and hands-on practice\, you’ll leave with the confidence to start your next crochet project.
URL:https://www.needlehook.com/event/the-afghan-stitch-tunisian-crochet-for-beginners/
LOCATION:Heart2Heart Knitting and Fiber Arts\, Poulsbo\, WA\, 98370
CATEGORIES:Crochet
ATTACH;FMTTYPE=image/jpeg:https://www.needlehook.com/wp-content/uploads/2026/02/download_2_20240930153614-uIitsI.jpg
END:VEVENT
BEGIN:VEVENT
DTSTART;TZID=America/Los_Angeles:20260208T150000
DTEND;TZID=America/Los_Angeles:20260208T170000
DTSTAMP:20260425T045121
CREATED:20260205T025607Z
LAST-MODIFIED:20260205T025607Z
UID:10022046-1770562800-1770570000@www.needlehook.com
SUMMARY:Beginning Crochet 101
DESCRIPTION:Are you looking for a place to begin your journey into the wonders of crochet?  This 3 session class covers the basics you will need to get started with crochet.  Students will learn the fundamentals of crochet; how to chain\, single crochet\, double crochet and half double crochet\, as well how to read simple patterns. Students will receive instruction\, washcloth patterns for class projects\, and quick tricks to help you learn crochet techniques.
URL:https://www.needlehook.com/event/beginning-crochet-101-7/
LOCATION:Acorn Street Shop\, Seattle\, WA\, 98105
CATEGORIES:Crochet
ATTACH;FMTTYPE=image/jpeg:https://www.needlehook.com/wp-content/uploads/2026/02/Crochet_Washcloth_All_Three_20230920164645-1GmaPn.jpg
END:VEVENT
BEGIN:VEVENT
DTSTART;TZID=America/Los_Angeles:20251213T103000
DTEND;TZID=America/Los_Angeles:20251213T123000
DTSTAMP:20260425T045121
CREATED:20250903T234727Z
LAST-MODIFIED:20250903T234727Z
UID:10018551-1765621800-1765629000@www.needlehook.com
SUMMARY:Crochet Basics
DESCRIPTION:Whether you’ve never picked up a crochet hook or just can’t quite remember how\, this is the perfect class for you!
URL:https://www.needlehook.com/event/crochet-basics/
LOCATION:Needles & Hooks\, Lake Forest Park\, WA\, 98155
CATEGORIES:Crochet
ATTACH;FMTTYPE=image/webp:https://www.needlehook.com/wp-content/uploads/2025/09/Crochet_Basics_9b0d0194-0347-4ba7-b64c-6107eaed5c6c_1024x1024@2x.jpg.webp
END:VEVENT
BEGIN:VEVENT
DTSTART;TZID=America/Los_Angeles:20251207T150000
DTEND;TZID=America/Los_Angeles:20251207T170000
DTSTAMP:20260425T045121
CREATED:20250825T225347Z
LAST-MODIFIED:20250826T001001Z
UID:10018495-1765119600-1765126800@www.needlehook.com
SUMMARY:Beginning Crochet 101
DESCRIPTION:Are you looking for a place to begin your journey into the wonders of crochet? This 3 session class covers the basics you will need to get started with crochet. Students will learn the fundamentals of crochet; how to chain\, single crochet\, double crochet and half double crochet\, as well how to read simple patterns. Students will receive instruction\, washcloth patterns for class projects\, and quick tricks to help you learn crochet techniques. \nTopics Covered: \n\nYarn and hook selection\nThe anatomy of a hook\nUseful tools\nCrochet references\nBest practices and postures for taking care of your body while crocheting\nOverview of basic stitches: chain stitch\, slip stitch\, single crochet\, double crochet and half double crochet\nHow to read crochet patterns and charts\nChanging yarns/colors\nEdging Options\nProject finishing\, weaving in ends and blocking\n\nSkill Requirements: \n\nNo prior experience necessary
URL:https://www.needlehook.com/event/beginning-crochet-101-4/
LOCATION:Acorn Street Shop\, Seattle\, WA\, 98105
CATEGORIES:Crochet
ATTACH;FMTTYPE=image/jpeg:https://www.needlehook.com/wp-content/uploads/2025/08/Crochet_Washcloth_All_Three_20230920164645.jpg
END:VEVENT
BEGIN:VEVENT
DTSTART;TZID=America/Los_Angeles:20251206T151500
DTEND;TZID=America/Los_Angeles:20251206T171500
DTSTAMP:20260425T045121
CREATED:20250917T221341Z
LAST-MODIFIED:20250917T221341Z
UID:10021403-1765034100-1765041300@www.needlehook.com
SUMMARY:Intro to Hybrid (Tunisian) Crochet
DESCRIPTION:Hybrid crochet (also known as Tunisian crochet or afghan stitch) is becoming hugely popular thanks to designers like Toni Lipsey\, Natalie of Detroit Knots\, and Aiobhe Ni. A mix of knitting and crochet skills\, it provides a unique textured fabric with a right side and a wrong side. Whether you knit or crochet\, this class will introduce you to some basic techniques used in hybrid crochet and introduce you to two stitches and at least one stitch pattern using the two basic stitches (maybe two if we’re making really good time!).
URL:https://www.needlehook.com/event/intro-to-hybrid-tunisian-crochet/
LOCATION:Stilly River Yarns\, Stanwood\, WA\, 98292
CATEGORIES:Crochet
ATTACH;FMTTYPE=image/png:https://www.needlehook.com/wp-content/uploads/2025/09/s101536767765940426_p662_i2_w1080.png
END:VEVENT
BEGIN:VEVENT
DTSTART;TZID=America/Los_Angeles:20251122T103000
DTEND;TZID=America/Los_Angeles:20251122T123000
DTSTAMP:20260425T045121
CREATED:20250825T225347Z
LAST-MODIFIED:20250826T001006Z
UID:10018494-1763807400-1763814600@www.needlehook.com
SUMMARY:Beginning Crochet 101
DESCRIPTION:Are you looking for a place to begin your journey into the wonders of crochet? This 3 session class covers the basics you will need to get started with crochet. Students will learn the fundamentals of crochet; how to chain\, single crochet\, double crochet and half double crochet\, as well how to read simple patterns. Students will receive instruction\, washcloth patterns for class projects\, and quick tricks to help you learn crochet techniques. \nTopics Covered: \n\nYarn and hook selection\nThe anatomy of a hook\nUseful tools\nCrochet references\nBest practices and postures for taking care of your body while crocheting\nOverview of basic stitches: chain stitch\, slip stitch\, single crochet\, double crochet and half double crochet\nHow to read crochet patterns and charts\nChanging yarns/colors\nEdging Options\nProject finishing\, weaving in ends and blocking\n\nSkill Requirements: \n\nNo prior experience necessary
URL:https://www.needlehook.com/event/beginning-crochet-101-3/
LOCATION:Acorn Street Shop\, Seattle\, WA\, 98105
CATEGORIES:Crochet
ATTACH;FMTTYPE=image/jpeg:https://www.needlehook.com/wp-content/uploads/2025/08/Crochet_Washcloth_All_Three_20230920164645.jpg
END:VEVENT
BEGIN:VEVENT
DTSTART;TZID=America/Los_Angeles:20251116T103000
DTEND;TZID=America/Los_Angeles:20251116T123000
DTSTAMP:20260425T045121
CREATED:20250903T010449Z
LAST-MODIFIED:20250903T010500Z
UID:10018525-1763289000-1763296200@www.needlehook.com
SUMMARY:Beginning Crochet
DESCRIPTION:This is an introductory course for anyone interested in learning the foundations of crochet\, whether you have never crocheted before or have started to learn\, and would like to polish your skills. The class will focus on the basic crochet stitches\, tools\, and terms.\nBy the end of the class\, you will be able to: Identify different crochet hooks and yarn types and sizes; understand basic crochet terms; hold the yarn and hook; and be comfortable with the basic crochet stitches(chain stitch\, single crochet\, half-double crochet\, double crochet\, turning chain). Students will utilize these basic crochet stitches to follow a dishcloth pattern during the class. Additional instructions will be provided to use these stitches to work on a range of progressively difficult projects.
URL:https://www.needlehook.com/event/beginning-crochet/
LOCATION:Bazaar Girls Yarn Shop\, Port Townsend\, WA\, 98368
CATEGORIES:Crochet
ATTACH;FMTTYPE=image/jpeg:https://www.needlehook.com/wp-content/uploads/2025/09/Crochet-1.jpg
END:VEVENT
BEGIN:VEVENT
DTSTART;TZID=America/Los_Angeles:20251115T123000
DTEND;TZID=America/Los_Angeles:20251115T153000
DTSTAMP:20260425T045121
CREATED:20250912T003756Z
LAST-MODIFIED:20250912T003756Z
UID:10021381-1763209800-1763220600@www.needlehook.com
SUMMARY:Granny Design Workshop
DESCRIPTION:Have you been crochet-obsessed and made a ton of granny squares? Bring them in and let’s put them together! I will have some graph paper for charting and planning the square layout. We’ll talk about shaping\, the math of designing with squares\, and get you started on your dream project.
URL:https://www.needlehook.com/event/granny-design-workshop/
LOCATION:The Nifty Knitter\, Issaquah\, WA\, 98027
CATEGORIES:Crochet
ATTACH;FMTTYPE=image/webp:https://www.needlehook.com/wp-content/uploads/2025/09/crochetsquare.jpg.webp
END:VEVENT
BEGIN:VEVENT
DTSTART;TZID=America/Los_Angeles:20251108T151500
DTEND;TZID=America/Los_Angeles:20251108T171500
DTSTAMP:20260425T045121
CREATED:20251002T202047Z
LAST-MODIFIED:20251002T202047Z
UID:10021771-1762614900-1762622100@www.needlehook.com
SUMMARY:Crochet Monster
DESCRIPTION:Megan Lapp’s adorable crocheted creations have taken our shop by storm. We’ve sold out of her books multiple times and have had a great time helping folks mix and match their favorite monster parts to create their own unique creatures. \nIf you’ve felt intimidated by the patterns but want to join the fun\, sign up for our Crochet Monster class! It’s a two-part class where we’ll focus on monster parts in session 1\, then questions and assembly in part 2. To keep things easy\, we’ll all be making the same monster – but you’ll get the skills you need to branch out as soon as this little buddy is done!
URL:https://www.needlehook.com/event/crochet-monster/
LOCATION:Stilly River Yarns\, Stanwood\, WA\, 98292
CATEGORIES:Crochet
ATTACH;FMTTYPE=image/jpeg:https://www.needlehook.com/wp-content/uploads/2025/10/s101536767765940426_p714_i1_w1080.jpeg
END:VEVENT
BEGIN:VEVENT
DTSTART;TZID=America/Los_Angeles:20251108T123000
DTEND;TZID=America/Los_Angeles:20251108T140000
DTSTAMP:20260425T045121
CREATED:20250911T155508Z
LAST-MODIFIED:20250911T155508Z
UID:10021323-1762605000-1762610400@www.needlehook.com
SUMMARY:Learn to Crochet Amigurumi Critters
DESCRIPTION:Introduction to Crocheting Amigurumi Critters. \nAmigurumi is the Japanese art of knitting or crocheting small\, cute\, stuffed yarn animals and creatures.\nStudents may choose to crochet either the Wooly Critters Angora Bunny Dumpling or Jellyfish.\nThe Angora Bunny Dumpling Pattern is included with class.
URL:https://www.needlehook.com/event/learn-to-crochet-amigurumi-critters/
LOCATION:Stranded by the Sea\, Edmonds\, WA\, 98020
CATEGORIES:Crochet
ATTACH;FMTTYPE=image/jpeg:https://www.needlehook.com/wp-content/uploads/2025/09/stranded-by-the-sea-class-learn-to-crochet-amiguru-3.jpg
END:VEVENT
BEGIN:VEVENT
DTSTART;TZID=America/Los_Angeles:20251108T103000
DTEND;TZID=America/Los_Angeles:20251108T123000
DTSTAMP:20260425T045121
CREATED:20250903T234750Z
LAST-MODIFIED:20250903T234750Z
UID:10018550-1762597800-1762605000@www.needlehook.com
SUMMARY:Crochet Basics
DESCRIPTION:Whether you’ve never picked up a crochet hook or just can’t quite remember how\, this is the perfect class for you!
URL:https://www.needlehook.com/event/crochet-basics-2/
LOCATION:Needles & Hooks\, Lake Forest Park\, WA\, 98155
CATEGORIES:Crochet
ATTACH;FMTTYPE=image/webp:https://www.needlehook.com/wp-content/uploads/2025/09/Crochet_Basics_9b0d0194-0347-4ba7-b64c-6107eaed5c6c_1024x1024@2x.jpg.webp
END:VEVENT
BEGIN:VEVENT
DTSTART;TZID=America/Los_Angeles:20251108T103000
DTEND;TZID=America/Los_Angeles:20251108T123000
DTSTAMP:20260425T045121
CREATED:20250903T011629Z
LAST-MODIFIED:20251002T193128Z
UID:10018529-1762597800-1762605000@www.needlehook.com
SUMMARY:Star Dust Mitts (with Maggie Stiles)
DESCRIPTION:As the weather turns\, our hands need an extra layer of warmth. Maggie has designed fingerless mitts that will do the trick. Utilizing the fun Star Stitch\, and crocheting in the round\, this is a quick\, fun project that will engage advanced beginner and intermediate crocheters alike. Hint: the mitts will make a great gift!
URL:https://www.needlehook.com/event/star-dust-mitts-with-maggie-stiles/
LOCATION:Fidalgo Artisan Yarn\, Anacortes\, WA\, 98221
CATEGORIES:Crochet
ATTACH;FMTTYPE=image/jpeg:https://www.needlehook.com/wp-content/uploads/2025/09/Photo-coming-soon.jpg
END:VEVENT
BEGIN:VEVENT
DTSTART;TZID=America/Los_Angeles:20251104T163000
DTEND;TZID=America/Los_Angeles:20251104T180000
DTSTAMP:20260425T045121
CREATED:20250912T003822Z
LAST-MODIFIED:20250912T003822Z
UID:10021379-1762273800-1762279200@www.needlehook.com
SUMMARY:Beyond Basics Granny Squares
DESCRIPTION:You’ve mastered the classic granny\, now let’s go further! There are tons of variations on squares; we’ll focus on learning 6 fancy types that will enhance your projects. Additionally\, we’ll learn some new techniques to make your stitches pop!
URL:https://www.needlehook.com/event/beyond-basics-granny-squares/
LOCATION:The Nifty Knitter\, Issaquah\, WA\, 98027
CATEGORIES:Crochet
ATTACH;FMTTYPE=image/webp:https://www.needlehook.com/wp-content/uploads/2025/09/Daisy-Granny-Square-Coaster.jpg.webp
END:VEVENT
BEGIN:VEVENT
DTSTART;TZID=America/Los_Angeles:20251025T103000
DTEND;TZID=America/Los_Angeles:20251025T123000
DTSTAMP:20260425T045121
CREATED:20250903T011603Z
LAST-MODIFIED:20251002T193104Z
UID:10018528-1761388200-1761395400@www.needlehook.com
SUMMARY:Tuni Bag (with Maggie Stiles)
DESCRIPTION:We invite you to take your crochet to the next level! Maggie will walk you through the Tunisian Simple Stitch and her pattern for the Tuni Bag – an adorable cross body bag of simple construction with just the right amount of flair and functionality. If you’ve been curious about Tunisian Crochet\, this class is for you!
URL:https://www.needlehook.com/event/tuni-bag-with-maggie-stiles/
LOCATION:Fidalgo Artisan Yarn\, Anacortes\, WA\, 98221
CATEGORIES:Crochet
ATTACH;FMTTYPE=image/jpeg:https://www.needlehook.com/wp-content/uploads/2025/09/2025-8-Maggie.jpg
END:VEVENT
BEGIN:VEVENT
DTSTART;TZID=America/Los_Angeles:20251025T090000
DTEND;TZID=America/Los_Angeles:20251025T100000
DTSTAMP:20260425T045121
CREATED:20250911T194006Z
LAST-MODIFIED:20250911T194006Z
UID:10021348-1761382800-1761386400@www.needlehook.com
SUMMARY:Learn to Crochet
DESCRIPTION:Have fun learning to crochet while creating a cute granny square coaster. In a welcoming and supportive environment\, you will learn all the basic crocheting skills and techniques needed to create almost any project. The class fee includes a skein of yarn and a crochet hook.
URL:https://www.needlehook.com/event/learn-to-crochet/
LOCATION:The Knitters Studio\, Bellevue\, WA\, 98004
CATEGORIES:Crochet
ATTACH;FMTTYPE=image/webp:https://www.needlehook.com/wp-content/uploads/2025/09/OF3YXVEQ5FJ7VOV7YPL3NCWX.jpeg.webp
END:VEVENT
BEGIN:VEVENT
DTSTART;TZID=America/Los_Angeles:20251022T173000
DTEND;TZID=America/Los_Angeles:20251022T203000
DTSTAMP:20260425T045121
CREATED:20251002T202501Z
LAST-MODIFIED:20251002T202501Z
UID:10021763-1761154200-1761165000@www.needlehook.com
SUMMARY:Beginning Tunisian Crochet
DESCRIPTION:We’ll cover:\n-Understanding Tunisian Hooks\,\n-The Foundation Row\n-Master the essential first step of any Tunisian crochet project. ( Simple Stitch (TSS)\, Purl Stitch (TPS)\n-Binding Off\n-Reading a Simple Pattern.\nBy the end of this class\, you will have the skills to create a small project\, such as a dishcloth or a scarf\, and a solid foundation to explore more advanced Tunisian crochet techniques.
URL:https://www.needlehook.com/event/beginning-tunisian-crochet/
LOCATION:Heart2Heart Knitting and Fiber Arts\, Poulsbo\, WA\, 98370
CATEGORIES:Crochet
ATTACH;FMTTYPE=image/jpeg:https://www.needlehook.com/wp-content/uploads/2025/10/download_2_20240930153614.jfif_.jpeg
END:VEVENT
BEGIN:VEVENT
DTSTART;TZID=America/Los_Angeles:20251019T103000
DTEND;TZID=America/Los_Angeles:20251019T123000
DTSTAMP:20260425T045121
CREATED:20250903T010401Z
LAST-MODIFIED:20250903T010401Z
UID:10018524-1760869800-1760877000@www.needlehook.com
SUMMARY:Amigurumi: Crocheted Jellyfish with Lisa Brice
DESCRIPTION:Amigurumi is a Japanese word for a knitted or crocheted stuffed toy. In this class\, we’ll learn the basics of a crocheted toy\, including crocheting in the round\, shaping\, and attaching crocheted pieces. This is not a beginning class: students must have a basic understanding of crochet stitches\, such as single and double crochet.
URL:https://www.needlehook.com/event/amigurumi-crocheted-jellyfish-with-lisa-brice/
LOCATION:Bazaar Girls Yarn Shop\, Port Townsend\, WA\, 98368
CATEGORIES:Crochet
ATTACH;FMTTYPE=image/jpeg:https://www.needlehook.com/wp-content/uploads/2025/09/Amigurumi-jellyfish-scaled-e1721683296408@2x.jpg
END:VEVENT
BEGIN:VEVENT
DTSTART;TZID=America/Los_Angeles:20251018T103000
DTEND;TZID=America/Los_Angeles:20251018T123000
DTSTAMP:20260425T045121
CREATED:20250825T225347Z
LAST-MODIFIED:20250826T001011Z
UID:10018493-1760783400-1760790600@www.needlehook.com
SUMMARY:Beginning Crochet 101
DESCRIPTION:Are you looking for a place to begin your journey into the wonders of crochet? This 3 session class covers the basics you will need to get started with crochet. Students will learn the fundamentals of crochet; how to chain\, single crochet\, double crochet and half double crochet\, as well how to read simple patterns. Students will receive instruction\, washcloth patterns for class projects\, and quick tricks to help you learn crochet techniques. \nTopics Covered: \n\nYarn and hook selection\nThe anatomy of a hook\nUseful tools\nCrochet references\nBest practices and postures for taking care of your body while crocheting\nOverview of basic stitches: chain stitch\, slip stitch\, single crochet\, double crochet and half double crochet\nHow to read crochet patterns and charts\nChanging yarns/colors\nEdging Options\nProject finishing\, weaving in ends and blocking\n\nSkill Requirements: \n\nNo prior experience necessary
URL:https://www.needlehook.com/event/beginning-crochet-101-2/
LOCATION:Acorn Street Shop\, Seattle\, WA\, 98105
CATEGORIES:Crochet
ATTACH;FMTTYPE=image/jpeg:https://www.needlehook.com/wp-content/uploads/2025/08/Crochet_Washcloth_All_Three_20230920164645.jpg
END:VEVENT
BEGIN:VEVENT
DTSTART;TZID=America/Los_Angeles:20251012T103000
DTEND;TZID=America/Los_Angeles:20251012T120000
DTSTAMP:20260425T045121
CREATED:20250911T185402Z
LAST-MODIFIED:20251010T154331Z
UID:10021342-1760265000-1760270400@www.needlehook.com
SUMMARY:Crochet Tapestry Class
DESCRIPTION:Ready for the next level in crochet? Looking to make the Sacred Sheep Cardigan? Learn crochet colorwork in this one day class. Students will come away with a 4″x4″ square that can be used to practice for a bigger project or just hang on the wall!
URL:https://www.needlehook.com/event/crochet-tapestry-class/
LOCATION:The Tea Cozy Yarn Shop\, Seattle\, WA\, 98107
CATEGORIES:Crochet
ATTACH;FMTTYPE=image/webp:https://www.needlehook.com/wp-content/uploads/2025/09/TapestryCrochet_4ff70868-87d4-4e14-b448-580e0e1007c5_1024x1024@2x.jpg.webp
END:VEVENT
BEGIN:VEVENT
DTSTART;TZID=America/Los_Angeles:20251012T100000
DTEND;TZID=America/Los_Angeles:20251012T120000
DTSTAMP:20260425T045121
CREATED:20250903T020914Z
LAST-MODIFIED:20251010T154326Z
UID:10018536-1760263200-1760270400@www.needlehook.com
SUMMARY:Intro to Crochet
DESCRIPTION:Are you ready to dive into the world of crochet\, but not sure where to start? Look no further! Our Crochet 101 class is designed specifically for the absolute beginner\, so whether you’ve never picked up a hook before or just need a refresher\, we’ve got you covered.
URL:https://www.needlehook.com/event/intro-to-crochet/
LOCATION:La Mercerie\, Bainbridge Island\, WA\, 98110
CATEGORIES:Crochet
ATTACH;FMTTYPE=image/webp:https://www.needlehook.com/wp-content/uploads/2025/09/introtocrochet_3558debe-b215-45a4-ad95-1b230f9b9f8f_1296x.jpg.webp
END:VEVENT
BEGIN:VEVENT
DTSTART;TZID=America/Los_Angeles:20251011T103000
DTEND;TZID=America/Los_Angeles:20251011T123000
DTSTAMP:20260425T045121
CREATED:20250903T234819Z
LAST-MODIFIED:20250903T234819Z
UID:10018549-1760178600-1760185800@www.needlehook.com
SUMMARY:Crochet Basics
DESCRIPTION:Whether you’ve never picked up a crochet hook or just can’t quite remember how\, this is the perfect class for you!
URL:https://www.needlehook.com/event/crochet-basics-3/
LOCATION:Needles & Hooks\, Lake Forest Park\, WA\, 98155
CATEGORIES:Crochet
ATTACH;FMTTYPE=image/webp:https://www.needlehook.com/wp-content/uploads/2025/09/Crochet_Basics_9b0d0194-0347-4ba7-b64c-6107eaed5c6c_1024x1024@2x.jpg.webp
END:VEVENT
END:VCALENDAR