BEGIN:VCALENDAR
VERSION:2.0
PRODID:-//needlehook - ECPv6.15.15//NONSGML v1.0//EN
CALSCALE:GREGORIAN
METHOD:PUBLISH
X-WR-CALNAME:needlehook
X-ORIGINAL-URL:https://www.needlehook.com
X-WR-CALDESC:Events for needlehook
REFRESH-INTERVAL;VALUE=DURATION:PT1H
X-Robots-Tag:noindex
X-PUBLISHED-TTL:PT1H
BEGIN:VTIMEZONE
TZID:America/Los_Angeles
BEGIN:DAYLIGHT
TZOFFSETFROM:-0800
TZOFFSETTO:-0700
TZNAME:PDT
DTSTART:20250309T100000
END:DAYLIGHT
BEGIN:STANDARD
TZOFFSETFROM:-0700
TZOFFSETTO:-0800
TZNAME:PST
DTSTART:20251102T090000
END:STANDARD
BEGIN:DAYLIGHT
TZOFFSETFROM:-0800
TZOFFSETTO:-0700
TZNAME:PDT
DTSTART:20260308T100000
END:DAYLIGHT
BEGIN:STANDARD
TZOFFSETFROM:-0700
TZOFFSETTO:-0800
TZNAME:PST
DTSTART:20261101T090000
END:STANDARD
BEGIN:DAYLIGHT
TZOFFSETFROM:-0800
TZOFFSETTO:-0700
TZNAME:PDT
DTSTART:20270314T100000
END:DAYLIGHT
BEGIN:STANDARD
TZOFFSETFROM:-0700
TZOFFSETTO:-0800
TZNAME:PST
DTSTART:20271107T090000
END:STANDARD
END:VTIMEZONE
BEGIN:VEVENT
DTSTART;TZID=America/Los_Angeles:20260424T170000
DTEND;TZID=America/Los_Angeles:20260424T180000
DTSTAMP:20260421T023312
CREATED:20250911T053603Z
LAST-MODIFIED:20250911T053603Z
UID:10021074-1777050000-1777053600@www.needlehook.com
SUMMARY:Free Beginner Crochet Class
DESCRIPTION:If you would like to get your crochet on\, please drop by for one of our free classes. Hooks and yarns for class are available for purchase at our store — or feel free to bring your own. \nIf you already know how to crochet\, but have questions about your project that you would like some assistance with\, feel free to stop by as well!
URL:https://www.needlehook.com/event/free-beginner-crochet-class/2026-04-24/
LOCATION:Northwest Yarns & Mercantile\, Bellingham\, WA\, 98225
CATEGORIES:Crochet
ATTACH;FMTTYPE=image/webp:https://www.needlehook.com/wp-content/uploads/2025/09/1714770919699_zmvp4fpr.jpg.webp
END:VEVENT
BEGIN:VEVENT
DTSTART;TZID=America/Los_Angeles:20260604T180000
DTEND;TZID=America/Los_Angeles:20260604T193000
DTSTAMP:20260421T023312
CREATED:20260206T062749Z
LAST-MODIFIED:20260206T062749Z
UID:10022083-1780596000-1780601400@www.needlehook.com
SUMMARY:Master the Beginner Crochet Sweater
DESCRIPTION:Crochet your perfect sweater even being a beginner: learn about measurements\, necessary tools\, basic stitches.
URL:https://www.needlehook.com/event/master-the-beginner-crochet-sweater/
LOCATION:Heart2Heart Knitting and Fiber Arts\, Poulsbo\, WA\, 98370
CATEGORIES:Crochet
ATTACH;FMTTYPE=image/jpeg:https://www.needlehook.com/wp-content/uploads/2026/02/download_2_20251201194626-r8i4ZY.jpg
END:VEVENT
END:VCALENDAR