BEGIN:VCALENDAR
VERSION:2.0
PRODID:-//needlehook - ECPv6.15.15//NONSGML v1.0//EN
CALSCALE:GREGORIAN
METHOD:PUBLISH
X-ORIGINAL-URL:https://www.needlehook.com
X-WR-CALDESC:Events for needlehook
REFRESH-INTERVAL;VALUE=DURATION:PT1H
X-Robots-Tag:noindex
X-PUBLISHED-TTL:PT1H
BEGIN:VTIMEZONE
TZID:America/Los_Angeles
BEGIN:DAYLIGHT
TZOFFSETFROM:-0800
TZOFFSETTO:-0700
TZNAME:PDT
DTSTART:20240310T100000
END:DAYLIGHT
BEGIN:STANDARD
TZOFFSETFROM:-0700
TZOFFSETTO:-0800
TZNAME:PST
DTSTART:20241103T090000
END:STANDARD
BEGIN:DAYLIGHT
TZOFFSETFROM:-0800
TZOFFSETTO:-0700
TZNAME:PDT
DTSTART:20250309T100000
END:DAYLIGHT
BEGIN:STANDARD
TZOFFSETFROM:-0700
TZOFFSETTO:-0800
TZNAME:PST
DTSTART:20251102T090000
END:STANDARD
BEGIN:DAYLIGHT
TZOFFSETFROM:-0800
TZOFFSETTO:-0700
TZNAME:PDT
DTSTART:20260308T100000
END:DAYLIGHT
BEGIN:STANDARD
TZOFFSETFROM:-0700
TZOFFSETTO:-0800
TZNAME:PST
DTSTART:20261101T090000
END:STANDARD
BEGIN:DAYLIGHT
TZOFFSETFROM:-0800
TZOFFSETTO:-0700
TZNAME:PDT
DTSTART:20270314T100000
END:DAYLIGHT
BEGIN:STANDARD
TZOFFSETFROM:-0700
TZOFFSETTO:-0800
TZNAME:PST
DTSTART:20271107T090000
END:STANDARD
END:VTIMEZONE
BEGIN:VEVENT
DTSTART;TZID=America/Los_Angeles:20260307T100000
DTEND;TZID=America/Los_Angeles:20260307T130000
DTSTAMP:20260420T015720
CREATED:20260205T025554Z
LAST-MODIFIED:20260205T025832Z
UID:10022063-1772877600-1772888400@www.needlehook.com
SUMMARY:Needle Felted Small Sheep in 3D
DESCRIPTION:You will learn how to build up a 3D wool object\, smoothly connect different parts\, the basics of sculpting facial features\, and creating a curly fleece from wool roving.  No experience needed – just creativity and patience.  Join us for this relaxing hands-on session and create something beautiful.
URL:https://www.needlehook.com/event/needle-felted-small-sheep-in-3d/
LOCATION:Acorn Street Shop\, Seattle\, WA\, 98105
CATEGORIES:Felting
ATTACH;FMTTYPE=image/jpeg:https://www.needlehook.com/wp-content/uploads/2026/02/Sculpted_Sheep_Square-P93dFD.jpg
END:VEVENT
BEGIN:VEVENT
DTSTART;VALUE=DATE:20251127
DTEND;VALUE=DATE:20251202
DTSTAMP:20260420T015720
CREATED:20251126T170917Z
LAST-MODIFIED:20251126T171121Z
UID:10022043-1764201600-1764633599@www.needlehook.com
SUMMARY:Sailor Slippers Knit-A-Long
DESCRIPTION:Want to hop on the #sailorslippers bandwagon with us?! Everyone at the shop seems to be picking their colors for the Sailor Slippers by Annie Germain\, so we will be hosting the #tcysslipalong over Thanksgiving weekend! Join the fun from November 27th through December 1st. Stop by the shop for help picking yarn or to get some color inspo 🪩✨
URL:https://www.needlehook.com/event/sailor-slippers-knit-a-long/
LOCATION:The Tea Cozy Yarn Shop\, Seattle\, WA\, 98107
CATEGORIES:Knitting
ATTACH;FMTTYPE=image/jpeg:https://www.needlehook.com/wp-content/uploads/2025/11/583862399_18079594397134127_5911226676443671170_n.jpg
END:VEVENT
BEGIN:VEVENT
DTSTART;TZID=America/Los_Angeles:20251115T100000
DTEND;TZID=America/Los_Angeles:20251116T150000
DTSTAMP:20260420T015720
CREATED:20250916T053712Z
LAST-MODIFIED:20250916T053845Z
UID:10021396-1763200800-1763305200@www.needlehook.com
SUMMARY:Sacred Sheep
DESCRIPTION:A celebration inspired by and showcasing our fiber community\, artful makers in the PNW at The Redd on Salmon in Portland\, OR on Saturday\, November 15th from 10 am – 5 pm and Sunday\, November 16th from 10 am – 3 pm.
URL:https://www.needlehook.com/event/sacred-sheep/
LOCATION:Sacred Sheep\, Portland\, OR\, 97214
CATEGORIES:Other
ATTACH;FMTTYPE=image/webp:https://www.needlehook.com/wp-content/uploads/2025/09/1_1abc2030-0908-4c72-9d0d-f9eb75d7c9c6.jpg-3.webp
END:VEVENT
BEGIN:VEVENT
DTSTART;TZID=America/Los_Angeles:20251112T143000
DTEND;TZID=America/Los_Angeles:20251112T163000
DTSTAMP:20260420T015720
CREATED:20251030T214507Z
LAST-MODIFIED:20251030T214507Z
UID:10022042-1762957800-1762965000@www.needlehook.com
SUMMARY:The Gourd\, The Bad and The Ugly - A Beginner's Workshop For Knitted Pumpkins!
DESCRIPTION:In this class you will learn increasing\, knitting in the round\, decreasing and knitting an I-cord. Practicing these skills will help beginners make the leap to more advanced patterns with the added bonus of taking home an adorable pumpkin to decorate your thanksgiving table with!
URL:https://www.needlehook.com/event/the-gourd-the-bad-and-the-ugly-a-beginners-workshop-for-knitted-pumpkins/
LOCATION:Acorn Street Shop\, Seattle\, WA\, 98105
CATEGORIES:Knitting
ATTACH;FMTTYPE=image/jpeg:https://www.needlehook.com/wp-content/uploads/2025/10/Pumpkins_Pic_Square.jpg
END:VEVENT
BEGIN:VEVENT
DTSTART;TZID=America/Los_Angeles:20251021T153000
DTEND;TZID=America/Los_Angeles:20251021T170000
DTSTAMP:20260420T015720
CREATED:20250903T021056Z
LAST-MODIFIED:20251005T144306Z
UID:10018538-1761060600-1761066000@www.needlehook.com
SUMMARY:Knitted Fall Pumpkin
DESCRIPTION:In this two-part class\, you’ll learn how to knit an adorable pumpkin using a simple\, beginner-friendly pattern designed by your instructor. Whether you’re new to knitting or looking for a fun seasonal project\, this class offers a relaxing way to build your skills while creating something festive and handmade.
URL:https://www.needlehook.com/event/knitted-fall-pumpkin/
LOCATION:La Mercerie\, Bainbridge Island\, WA\, 98110
CATEGORIES:Knitting
ATTACH;FMTTYPE=image/webp:https://www.needlehook.com/wp-content/uploads/2025/09/pumpkins_1_1296x.jpg.webp
END:VEVENT
BEGIN:VEVENT
DTSTART;TZID=America/Los_Angeles:20251018T090000
DTEND;TZID=America/Los_Angeles:20251019T160000
DTSTAMP:20260420T015720
CREATED:20250916T053808Z
LAST-MODIFIED:20251015T182559Z
UID:10021395-1760778000-1760889600@www.needlehook.com
SUMMARY:Oregon Flock & Fiber Festival
DESCRIPTION:Oregon Flock and Fiber is a weekend filled with classes\, demonstrations\, livestock shows\, and an expansive marketplace with a wide array of fiber goods and accessories. Spinning is the 2025 celebrated Craft and Angora Rabbit is the featured fiber.
URL:https://www.needlehook.com/event/oregon-flock-fiber-festival/
LOCATION:Oregon Flock & Fiber Festival\, Albany\, OR\, 97322
CATEGORIES:Other
ATTACH;FMTTYPE=image/avif:https://www.needlehook.com/wp-content/uploads/2025/09/OFFF-2025-basic.jpg.avif
END:VEVENT
BEGIN:VEVENT
DTSTART;TZID=America/Los_Angeles:20251008T181500
DTEND;TZID=America/Los_Angeles:20251008T201500
DTSTAMP:20260420T015720
CREATED:20250917T221435Z
LAST-MODIFIED:20251005T144021Z
UID:10021402-1759947300-1759954500@www.needlehook.com
SUMMARY:Basic Socks\, Cuff-Down
DESCRIPTION:Socks are one of our shop community’s favorite portable projects – they’re small\, easy to pause work on when you have an interruption\, and amazing at helping keep your feet dry and warm in our cool\, rainy autumn and winter seasons. But if you’ve never made a pair before\, the tiny yarn and all the new terminology can be overwhelming. \nIf you need more support than you’re finding on YouTube\, join us for Basic Socks – we use a free\, tutorial-rich pattern from Tin Can Knits and worsted-weight yarn to get through a child-sized sock quickly – and at a large-enough scale to see what you’re doing at each step in the process.
URL:https://www.needlehook.com/event/basic-socks-cuff-down/
LOCATION:Stilly River Yarns\, Stanwood\, WA\, 98292
CATEGORIES:Knitting
ATTACH;FMTTYPE=image/jpeg:https://www.needlehook.com/wp-content/uploads/2025/09/s101536767765940426_p520_i1_w3200.jpeg
END:VEVENT
BEGIN:VEVENT
DTSTART;TZID=America/Los_Angeles:20251004T150000
DTEND;TZID=America/Los_Angeles:20251004T170000
DTSTAMP:20260420T015720
CREATED:20250911T193455Z
LAST-MODIFIED:20250923T052333Z
UID:10021356-1759590000-1759597200@www.needlehook.com
SUMMARY:Custom Christmas Stocking
DESCRIPTION:Create your own custom Christmas Stocking\, an heirloom holiday staple that will bring joy to many for years to come! In this class 6 week class you will learn how to customize the name\, design\, and details to make a one of a kind stocking. You will also learn how to create the fanciful details of a picot hem and Latvian braid.
URL:https://www.needlehook.com/event/custom-christmas-stocking/
LOCATION:The Knitters Studio\, Bellevue\, WA\, 98004
CATEGORIES:Knitting
ATTACH;FMTTYPE=image/webp:https://www.needlehook.com/wp-content/uploads/2025/09/UX37T6C2AZA74ZXTBIIBGW3M.jpeg-scaled.webp
END:VEVENT
BEGIN:VEVENT
DTSTART;TZID=America/Los_Angeles:20251004T103000
DTEND;TZID=America/Los_Angeles:20251004T123000
DTSTAMP:20260420T015720
CREATED:20250911T161751Z
LAST-MODIFIED:20250911T161751Z
UID:10021334-1759573800-1759581000@www.needlehook.com
SUMMARY:Granny Ghost Crochet Class
DESCRIPTION:Learn to make a cute granny square ghost! Make a bunch for bunting\, or to drape over a lollipop. These ghosts are quick and fun – they’ll get you in the spooky season mood too! This is a great first granny square class.
URL:https://www.needlehook.com/event/granny-ghost-crochet-class/
LOCATION:Strikke Yarn & Supply\, Bothell\, WA\, 98011
CATEGORIES:Crochet
ATTACH;FMTTYPE=image/webp:https://www.needlehook.com/wp-content/uploads/2025/09/7735450130252295428.jpg.webp
END:VEVENT
BEGIN:VEVENT
DTSTART;TZID=America/Los_Angeles:20250920T090000
DTEND;TZID=America/Los_Angeles:20250920T120000
DTSTAMP:20260420T015720
CREATED:20250903T234617Z
LAST-MODIFIED:20250904T191955Z
UID:10018556-1758358800-1758369600@www.needlehook.com
SUMMARY:Needle Felted Turtles
DESCRIPTION:Snap at this unique chance to make needle felted turtles! Land or sea\, it’s up to you. Our favorite needle felting teacher\, Tammy\, will lead the way. \nFrom experienced beginners to advanced needle felters\, your results will be turtley amazing. You shell have a great time\, you’ll sea. Hurry\, before the opportunity floats away!
URL:https://www.needlehook.com/event/needle-felted-turtles/
LOCATION:Needles & Hooks\, Lake Forest Park\, WA\, 98155
CATEGORIES:Other
ATTACH;FMTTYPE=image/webp:https://www.needlehook.com/wp-content/uploads/2025/09/Needle_Felted_Turtles_-_SQUARE_1024x1024@2x.png.webp
END:VEVENT
BEGIN:VEVENT
DTSTART;TZID=America/Los_Angeles:20250913T130000
DTEND;TZID=America/Los_Angeles:20250913T150000
DTSTAMP:20260420T015720
CREATED:20250911T193708Z
LAST-MODIFIED:20250911T193719Z
UID:10021353-1757768400-1757775600@www.needlehook.com
SUMMARY:Crochet Pumpkins
DESCRIPTION:Learn how to crochet cute pumpkins for your fall decor. This adorable pumpkin is worked flat\, and is easily scaled up in size\, or adjusted for shape.
URL:https://www.needlehook.com/event/crochet-pumpkins/
LOCATION:The Knitters Studio\, Bellevue\, WA\, 98004
CATEGORIES:Crochet
ATTACH;FMTTYPE=image/webp:https://www.needlehook.com/wp-content/uploads/2025/09/5H7KIEGJ6LJSMHJEJBJ26OCP.jpeg.webp
END:VEVENT
END:VCALENDAR