BEGIN:VCALENDAR
VERSION:2.0
PRODID:-//needlehook - ECPv6.15.15//NONSGML v1.0//EN
CALSCALE:GREGORIAN
METHOD:PUBLISH
X-WR-CALNAME:needlehook
X-ORIGINAL-URL:https://www.needlehook.com
X-WR-CALDESC:Events for needlehook
REFRESH-INTERVAL;VALUE=DURATION:PT1H
X-Robots-Tag:noindex
X-PUBLISHED-TTL:PT1H
BEGIN:VTIMEZONE
TZID:America/Los_Angeles
BEGIN:DAYLIGHT
TZOFFSETFROM:-0800
TZOFFSETTO:-0700
TZNAME:PDT
DTSTART:20250309T100000
END:DAYLIGHT
BEGIN:STANDARD
TZOFFSETFROM:-0700
TZOFFSETTO:-0800
TZNAME:PST
DTSTART:20251102T090000
END:STANDARD
BEGIN:DAYLIGHT
TZOFFSETFROM:-0800
TZOFFSETTO:-0700
TZNAME:PDT
DTSTART:20260308T100000
END:DAYLIGHT
BEGIN:STANDARD
TZOFFSETFROM:-0700
TZOFFSETTO:-0800
TZNAME:PST
DTSTART:20261101T090000
END:STANDARD
BEGIN:DAYLIGHT
TZOFFSETFROM:-0800
TZOFFSETTO:-0700
TZNAME:PDT
DTSTART:20270314T100000
END:DAYLIGHT
BEGIN:STANDARD
TZOFFSETFROM:-0700
TZOFFSETTO:-0800
TZNAME:PST
DTSTART:20271107T090000
END:STANDARD
END:VTIMEZONE
BEGIN:VEVENT
DTSTART;TZID=America/Los_Angeles:20260423T180000
DTEND;TZID=America/Los_Angeles:20260423T210000
DTSTAMP:20260421T025906
CREATED:20250821T180750Z
LAST-MODIFIED:20250904T173735Z
UID:10015566-1776967200-1776978000@www.needlehook.com
SUMMARY:The Yarn Outfitter
DESCRIPTION:Arlington\, WA | Stitch and Spin Together. We care about building a welcoming fiber arts community! We want to be a place where you can meet others that care about the fiber arts as much as you do. Our table is always open (if there isn’t a class)\, but if you would like target days to ensure you meet up with others\, we’ve got you covered! \nGather around our big table and stitch with other people who love stitching as much as you do!
URL:https://www.needlehook.com/event/stitch-and-spin-2/2026-04-23/
LOCATION:The Yarn Outfitter\, Arlington\, WA\, 98223
CATEGORIES:Social Stitching Seattle
END:VEVENT
BEGIN:VEVENT
DTSTART;TZID=America/Los_Angeles:20260430T180000
DTEND;TZID=America/Los_Angeles:20260430T210000
DTSTAMP:20260421T025906
CREATED:20250821T180750Z
LAST-MODIFIED:20250904T173735Z
UID:10015567-1777572000-1777582800@www.needlehook.com
SUMMARY:The Yarn Outfitter
DESCRIPTION:Arlington\, WA | Stitch and Spin Together. We care about building a welcoming fiber arts community! We want to be a place where you can meet others that care about the fiber arts as much as you do. Our table is always open (if there isn’t a class)\, but if you would like target days to ensure you meet up with others\, we’ve got you covered! \nGather around our big table and stitch with other people who love stitching as much as you do!
URL:https://www.needlehook.com/event/stitch-and-spin-2/2026-04-30/
LOCATION:The Yarn Outfitter\, Arlington\, WA\, 98223
CATEGORIES:Social Stitching Seattle
END:VEVENT
BEGIN:VEVENT
DTSTART;TZID=America/Los_Angeles:20260507T180000
DTEND;TZID=America/Los_Angeles:20260507T210000
DTSTAMP:20260421T025906
CREATED:20250821T180750Z
LAST-MODIFIED:20250904T173735Z
UID:10015568-1778176800-1778187600@www.needlehook.com
SUMMARY:The Yarn Outfitter
DESCRIPTION:Arlington\, WA | Stitch and Spin Together. We care about building a welcoming fiber arts community! We want to be a place where you can meet others that care about the fiber arts as much as you do. Our table is always open (if there isn’t a class)\, but if you would like target days to ensure you meet up with others\, we’ve got you covered! \nGather around our big table and stitch with other people who love stitching as much as you do!
URL:https://www.needlehook.com/event/stitch-and-spin-2/2026-05-07/
LOCATION:The Yarn Outfitter\, Arlington\, WA\, 98223
CATEGORIES:Social Stitching Seattle
END:VEVENT
BEGIN:VEVENT
DTSTART;TZID=America/Los_Angeles:20260514T180000
DTEND;TZID=America/Los_Angeles:20260514T210000
DTSTAMP:20260421T025906
CREATED:20250821T180750Z
LAST-MODIFIED:20250904T173735Z
UID:10015569-1778781600-1778792400@www.needlehook.com
SUMMARY:The Yarn Outfitter
DESCRIPTION:Arlington\, WA | Stitch and Spin Together. We care about building a welcoming fiber arts community! We want to be a place where you can meet others that care about the fiber arts as much as you do. Our table is always open (if there isn’t a class)\, but if you would like target days to ensure you meet up with others\, we’ve got you covered! \nGather around our big table and stitch with other people who love stitching as much as you do!
URL:https://www.needlehook.com/event/stitch-and-spin-2/2026-05-14/
LOCATION:The Yarn Outfitter\, Arlington\, WA\, 98223
CATEGORIES:Social Stitching Seattle
END:VEVENT
BEGIN:VEVENT
DTSTART;TZID=America/Los_Angeles:20260521T180000
DTEND;TZID=America/Los_Angeles:20260521T210000
DTSTAMP:20260421T025906
CREATED:20250821T180750Z
LAST-MODIFIED:20250904T173735Z
UID:10015570-1779386400-1779397200@www.needlehook.com
SUMMARY:The Yarn Outfitter
DESCRIPTION:Arlington\, WA | Stitch and Spin Together. We care about building a welcoming fiber arts community! We want to be a place where you can meet others that care about the fiber arts as much as you do. Our table is always open (if there isn’t a class)\, but if you would like target days to ensure you meet up with others\, we’ve got you covered! \nGather around our big table and stitch with other people who love stitching as much as you do!
URL:https://www.needlehook.com/event/stitch-and-spin-2/2026-05-21/
LOCATION:The Yarn Outfitter\, Arlington\, WA\, 98223
CATEGORIES:Social Stitching Seattle
END:VEVENT
BEGIN:VEVENT
DTSTART;TZID=America/Los_Angeles:20260528T180000
DTEND;TZID=America/Los_Angeles:20260528T210000
DTSTAMP:20260421T025906
CREATED:20250821T180750Z
LAST-MODIFIED:20250904T173735Z
UID:10015571-1779991200-1780002000@www.needlehook.com
SUMMARY:The Yarn Outfitter
DESCRIPTION:Arlington\, WA | Stitch and Spin Together. We care about building a welcoming fiber arts community! We want to be a place where you can meet others that care about the fiber arts as much as you do. Our table is always open (if there isn’t a class)\, but if you would like target days to ensure you meet up with others\, we’ve got you covered! \nGather around our big table and stitch with other people who love stitching as much as you do!
URL:https://www.needlehook.com/event/stitch-and-spin-2/2026-05-28/
LOCATION:The Yarn Outfitter\, Arlington\, WA\, 98223
CATEGORIES:Social Stitching Seattle
END:VEVENT
BEGIN:VEVENT
DTSTART;TZID=America/Los_Angeles:20260604T180000
DTEND;TZID=America/Los_Angeles:20260604T210000
DTSTAMP:20260421T025906
CREATED:20250821T180750Z
LAST-MODIFIED:20250904T173735Z
UID:10015572-1780596000-1780606800@www.needlehook.com
SUMMARY:The Yarn Outfitter
DESCRIPTION:Arlington\, WA | Stitch and Spin Together. We care about building a welcoming fiber arts community! We want to be a place where you can meet others that care about the fiber arts as much as you do. Our table is always open (if there isn’t a class)\, but if you would like target days to ensure you meet up with others\, we’ve got you covered! \nGather around our big table and stitch with other people who love stitching as much as you do!
URL:https://www.needlehook.com/event/stitch-and-spin-2/2026-06-04/
LOCATION:The Yarn Outfitter\, Arlington\, WA\, 98223
CATEGORIES:Social Stitching Seattle
END:VEVENT
BEGIN:VEVENT
DTSTART;TZID=America/Los_Angeles:20260611T180000
DTEND;TZID=America/Los_Angeles:20260611T210000
DTSTAMP:20260421T025906
CREATED:20250821T180750Z
LAST-MODIFIED:20250904T173735Z
UID:10015573-1781200800-1781211600@www.needlehook.com
SUMMARY:The Yarn Outfitter
DESCRIPTION:Arlington\, WA | Stitch and Spin Together. We care about building a welcoming fiber arts community! We want to be a place where you can meet others that care about the fiber arts as much as you do. Our table is always open (if there isn’t a class)\, but if you would like target days to ensure you meet up with others\, we’ve got you covered! \nGather around our big table and stitch with other people who love stitching as much as you do!
URL:https://www.needlehook.com/event/stitch-and-spin-2/2026-06-11/
LOCATION:The Yarn Outfitter\, Arlington\, WA\, 98223
CATEGORIES:Social Stitching Seattle
END:VEVENT
BEGIN:VEVENT
DTSTART;TZID=America/Los_Angeles:20260618T180000
DTEND;TZID=America/Los_Angeles:20260618T210000
DTSTAMP:20260421T025906
CREATED:20250821T180750Z
LAST-MODIFIED:20250904T173735Z
UID:10015574-1781805600-1781816400@www.needlehook.com
SUMMARY:The Yarn Outfitter
DESCRIPTION:Arlington\, WA | Stitch and Spin Together. We care about building a welcoming fiber arts community! We want to be a place where you can meet others that care about the fiber arts as much as you do. Our table is always open (if there isn’t a class)\, but if you would like target days to ensure you meet up with others\, we’ve got you covered! \nGather around our big table and stitch with other people who love stitching as much as you do!
URL:https://www.needlehook.com/event/stitch-and-spin-2/2026-06-18/
LOCATION:The Yarn Outfitter\, Arlington\, WA\, 98223
CATEGORIES:Social Stitching Seattle
END:VEVENT
BEGIN:VEVENT
DTSTART;TZID=America/Los_Angeles:20260625T180000
DTEND;TZID=America/Los_Angeles:20260625T210000
DTSTAMP:20260421T025906
CREATED:20250821T180750Z
LAST-MODIFIED:20250904T173735Z
UID:10015575-1782410400-1782421200@www.needlehook.com
SUMMARY:The Yarn Outfitter
DESCRIPTION:Arlington\, WA | Stitch and Spin Together. We care about building a welcoming fiber arts community! We want to be a place where you can meet others that care about the fiber arts as much as you do. Our table is always open (if there isn’t a class)\, but if you would like target days to ensure you meet up with others\, we’ve got you covered! \nGather around our big table and stitch with other people who love stitching as much as you do!
URL:https://www.needlehook.com/event/stitch-and-spin-2/2026-06-25/
LOCATION:The Yarn Outfitter\, Arlington\, WA\, 98223
CATEGORIES:Social Stitching Seattle
END:VEVENT
BEGIN:VEVENT
DTSTART;TZID=America/Los_Angeles:20260702T180000
DTEND;TZID=America/Los_Angeles:20260702T210000
DTSTAMP:20260421T025906
CREATED:20250821T180750Z
LAST-MODIFIED:20250904T173735Z
UID:10015576-1783015200-1783026000@www.needlehook.com
SUMMARY:The Yarn Outfitter
DESCRIPTION:Arlington\, WA | Stitch and Spin Together. We care about building a welcoming fiber arts community! We want to be a place where you can meet others that care about the fiber arts as much as you do. Our table is always open (if there isn’t a class)\, but if you would like target days to ensure you meet up with others\, we’ve got you covered! \nGather around our big table and stitch with other people who love stitching as much as you do!
URL:https://www.needlehook.com/event/stitch-and-spin-2/2026-07-02/
LOCATION:The Yarn Outfitter\, Arlington\, WA\, 98223
CATEGORIES:Social Stitching Seattle
END:VEVENT
BEGIN:VEVENT
DTSTART;TZID=America/Los_Angeles:20260709T180000
DTEND;TZID=America/Los_Angeles:20260709T210000
DTSTAMP:20260421T025906
CREATED:20250821T180750Z
LAST-MODIFIED:20250904T173735Z
UID:10015577-1783620000-1783630800@www.needlehook.com
SUMMARY:The Yarn Outfitter
DESCRIPTION:Arlington\, WA | Stitch and Spin Together. We care about building a welcoming fiber arts community! We want to be a place where you can meet others that care about the fiber arts as much as you do. Our table is always open (if there isn’t a class)\, but if you would like target days to ensure you meet up with others\, we’ve got you covered! \nGather around our big table and stitch with other people who love stitching as much as you do!
URL:https://www.needlehook.com/event/stitch-and-spin-2/2026-07-09/
LOCATION:The Yarn Outfitter\, Arlington\, WA\, 98223
CATEGORIES:Social Stitching Seattle
END:VEVENT
BEGIN:VEVENT
DTSTART;TZID=America/Los_Angeles:20260716T180000
DTEND;TZID=America/Los_Angeles:20260716T210000
DTSTAMP:20260421T025906
CREATED:20250821T180750Z
LAST-MODIFIED:20250904T173735Z
UID:10015578-1784224800-1784235600@www.needlehook.com
SUMMARY:The Yarn Outfitter
DESCRIPTION:Arlington\, WA | Stitch and Spin Together. We care about building a welcoming fiber arts community! We want to be a place where you can meet others that care about the fiber arts as much as you do. Our table is always open (if there isn’t a class)\, but if you would like target days to ensure you meet up with others\, we’ve got you covered! \nGather around our big table and stitch with other people who love stitching as much as you do!
URL:https://www.needlehook.com/event/stitch-and-spin-2/2026-07-16/
LOCATION:The Yarn Outfitter\, Arlington\, WA\, 98223
CATEGORIES:Social Stitching Seattle
END:VEVENT
BEGIN:VEVENT
DTSTART;TZID=America/Los_Angeles:20260723T180000
DTEND;TZID=America/Los_Angeles:20260723T210000
DTSTAMP:20260421T025906
CREATED:20250821T180750Z
LAST-MODIFIED:20250904T173735Z
UID:10015579-1784829600-1784840400@www.needlehook.com
SUMMARY:The Yarn Outfitter
DESCRIPTION:Arlington\, WA | Stitch and Spin Together. We care about building a welcoming fiber arts community! We want to be a place where you can meet others that care about the fiber arts as much as you do. Our table is always open (if there isn’t a class)\, but if you would like target days to ensure you meet up with others\, we’ve got you covered! \nGather around our big table and stitch with other people who love stitching as much as you do!
URL:https://www.needlehook.com/event/stitch-and-spin-2/2026-07-23/
LOCATION:The Yarn Outfitter\, Arlington\, WA\, 98223
CATEGORIES:Social Stitching Seattle
END:VEVENT
BEGIN:VEVENT
DTSTART;TZID=America/Los_Angeles:20260730T180000
DTEND;TZID=America/Los_Angeles:20260730T210000
DTSTAMP:20260421T025906
CREATED:20250821T180750Z
LAST-MODIFIED:20250904T173735Z
UID:10015580-1785434400-1785445200@www.needlehook.com
SUMMARY:The Yarn Outfitter
DESCRIPTION:Arlington\, WA | Stitch and Spin Together. We care about building a welcoming fiber arts community! We want to be a place where you can meet others that care about the fiber arts as much as you do. Our table is always open (if there isn’t a class)\, but if you would like target days to ensure you meet up with others\, we’ve got you covered! \nGather around our big table and stitch with other people who love stitching as much as you do!
URL:https://www.needlehook.com/event/stitch-and-spin-2/2026-07-30/
LOCATION:The Yarn Outfitter\, Arlington\, WA\, 98223
CATEGORIES:Social Stitching Seattle
END:VEVENT
BEGIN:VEVENT
DTSTART;TZID=America/Los_Angeles:20260806T180000
DTEND;TZID=America/Los_Angeles:20260806T210000
DTSTAMP:20260421T025906
CREATED:20250821T180750Z
LAST-MODIFIED:20250904T173735Z
UID:10015581-1786039200-1786050000@www.needlehook.com
SUMMARY:The Yarn Outfitter
DESCRIPTION:Arlington\, WA | Stitch and Spin Together. We care about building a welcoming fiber arts community! We want to be a place where you can meet others that care about the fiber arts as much as you do. Our table is always open (if there isn’t a class)\, but if you would like target days to ensure you meet up with others\, we’ve got you covered! \nGather around our big table and stitch with other people who love stitching as much as you do!
URL:https://www.needlehook.com/event/stitch-and-spin-2/2026-08-06/
LOCATION:The Yarn Outfitter\, Arlington\, WA\, 98223
CATEGORIES:Social Stitching Seattle
END:VEVENT
BEGIN:VEVENT
DTSTART;TZID=America/Los_Angeles:20260813T180000
DTEND;TZID=America/Los_Angeles:20260813T210000
DTSTAMP:20260421T025906
CREATED:20250821T180750Z
LAST-MODIFIED:20250904T173735Z
UID:10015582-1786644000-1786654800@www.needlehook.com
SUMMARY:The Yarn Outfitter
DESCRIPTION:Arlington\, WA | Stitch and Spin Together. We care about building a welcoming fiber arts community! We want to be a place where you can meet others that care about the fiber arts as much as you do. Our table is always open (if there isn’t a class)\, but if you would like target days to ensure you meet up with others\, we’ve got you covered! \nGather around our big table and stitch with other people who love stitching as much as you do!
URL:https://www.needlehook.com/event/stitch-and-spin-2/2026-08-13/
LOCATION:The Yarn Outfitter\, Arlington\, WA\, 98223
CATEGORIES:Social Stitching Seattle
END:VEVENT
BEGIN:VEVENT
DTSTART;TZID=America/Los_Angeles:20260820T180000
DTEND;TZID=America/Los_Angeles:20260820T210000
DTSTAMP:20260421T025906
CREATED:20250821T180750Z
LAST-MODIFIED:20250904T173735Z
UID:10015583-1787248800-1787259600@www.needlehook.com
SUMMARY:The Yarn Outfitter
DESCRIPTION:Arlington\, WA | Stitch and Spin Together. We care about building a welcoming fiber arts community! We want to be a place where you can meet others that care about the fiber arts as much as you do. Our table is always open (if there isn’t a class)\, but if you would like target days to ensure you meet up with others\, we’ve got you covered! \nGather around our big table and stitch with other people who love stitching as much as you do!
URL:https://www.needlehook.com/event/stitch-and-spin-2/2026-08-20/
LOCATION:The Yarn Outfitter\, Arlington\, WA\, 98223
CATEGORIES:Social Stitching Seattle
END:VEVENT
BEGIN:VEVENT
DTSTART;TZID=America/Los_Angeles:20260827T180000
DTEND;TZID=America/Los_Angeles:20260827T210000
DTSTAMP:20260421T025906
CREATED:20250821T180750Z
LAST-MODIFIED:20250904T173735Z
UID:10015584-1787853600-1787864400@www.needlehook.com
SUMMARY:The Yarn Outfitter
DESCRIPTION:Arlington\, WA | Stitch and Spin Together. We care about building a welcoming fiber arts community! We want to be a place where you can meet others that care about the fiber arts as much as you do. Our table is always open (if there isn’t a class)\, but if you would like target days to ensure you meet up with others\, we’ve got you covered! \nGather around our big table and stitch with other people who love stitching as much as you do!
URL:https://www.needlehook.com/event/stitch-and-spin-2/2026-08-27/
LOCATION:The Yarn Outfitter\, Arlington\, WA\, 98223
CATEGORIES:Social Stitching Seattle
END:VEVENT
BEGIN:VEVENT
DTSTART;TZID=America/Los_Angeles:20260903T180000
DTEND;TZID=America/Los_Angeles:20260903T210000
DTSTAMP:20260421T025906
CREATED:20250821T180750Z
LAST-MODIFIED:20250904T173735Z
UID:10015585-1788458400-1788469200@www.needlehook.com
SUMMARY:The Yarn Outfitter
DESCRIPTION:Arlington\, WA | Stitch and Spin Together. We care about building a welcoming fiber arts community! We want to be a place where you can meet others that care about the fiber arts as much as you do. Our table is always open (if there isn’t a class)\, but if you would like target days to ensure you meet up with others\, we’ve got you covered! \nGather around our big table and stitch with other people who love stitching as much as you do!
URL:https://www.needlehook.com/event/stitch-and-spin-2/2026-09-03/
LOCATION:The Yarn Outfitter\, Arlington\, WA\, 98223
CATEGORIES:Social Stitching Seattle
END:VEVENT
BEGIN:VEVENT
DTSTART;TZID=America/Los_Angeles:20260910T180000
DTEND;TZID=America/Los_Angeles:20260910T210000
DTSTAMP:20260421T025906
CREATED:20250821T180750Z
LAST-MODIFIED:20250904T173735Z
UID:10015586-1789063200-1789074000@www.needlehook.com
SUMMARY:The Yarn Outfitter
DESCRIPTION:Arlington\, WA | Stitch and Spin Together. We care about building a welcoming fiber arts community! We want to be a place where you can meet others that care about the fiber arts as much as you do. Our table is always open (if there isn’t a class)\, but if you would like target days to ensure you meet up with others\, we’ve got you covered! \nGather around our big table and stitch with other people who love stitching as much as you do!
URL:https://www.needlehook.com/event/stitch-and-spin-2/2026-09-10/
LOCATION:The Yarn Outfitter\, Arlington\, WA\, 98223
CATEGORIES:Social Stitching Seattle
END:VEVENT
BEGIN:VEVENT
DTSTART;TZID=America/Los_Angeles:20260917T180000
DTEND;TZID=America/Los_Angeles:20260917T210000
DTSTAMP:20260421T025906
CREATED:20250821T180750Z
LAST-MODIFIED:20250904T173735Z
UID:10015587-1789668000-1789678800@www.needlehook.com
SUMMARY:The Yarn Outfitter
DESCRIPTION:Arlington\, WA | Stitch and Spin Together. We care about building a welcoming fiber arts community! We want to be a place where you can meet others that care about the fiber arts as much as you do. Our table is always open (if there isn’t a class)\, but if you would like target days to ensure you meet up with others\, we’ve got you covered! \nGather around our big table and stitch with other people who love stitching as much as you do!
URL:https://www.needlehook.com/event/stitch-and-spin-2/2026-09-17/
LOCATION:The Yarn Outfitter\, Arlington\, WA\, 98223
CATEGORIES:Social Stitching Seattle
END:VEVENT
BEGIN:VEVENT
DTSTART;TZID=America/Los_Angeles:20260924T180000
DTEND;TZID=America/Los_Angeles:20260924T210000
DTSTAMP:20260421T025906
CREATED:20250821T180750Z
LAST-MODIFIED:20250904T173735Z
UID:10015588-1790272800-1790283600@www.needlehook.com
SUMMARY:The Yarn Outfitter
DESCRIPTION:Arlington\, WA | Stitch and Spin Together. We care about building a welcoming fiber arts community! We want to be a place where you can meet others that care about the fiber arts as much as you do. Our table is always open (if there isn’t a class)\, but if you would like target days to ensure you meet up with others\, we’ve got you covered! \nGather around our big table and stitch with other people who love stitching as much as you do!
URL:https://www.needlehook.com/event/stitch-and-spin-2/2026-09-24/
LOCATION:The Yarn Outfitter\, Arlington\, WA\, 98223
CATEGORIES:Social Stitching Seattle
END:VEVENT
BEGIN:VEVENT
DTSTART;TZID=America/Los_Angeles:20261001T180000
DTEND;TZID=America/Los_Angeles:20261001T210000
DTSTAMP:20260421T025906
CREATED:20250821T180750Z
LAST-MODIFIED:20250904T173735Z
UID:10015589-1790877600-1790888400@www.needlehook.com
SUMMARY:The Yarn Outfitter
DESCRIPTION:Arlington\, WA | Stitch and Spin Together. We care about building a welcoming fiber arts community! We want to be a place where you can meet others that care about the fiber arts as much as you do. Our table is always open (if there isn’t a class)\, but if you would like target days to ensure you meet up with others\, we’ve got you covered! \nGather around our big table and stitch with other people who love stitching as much as you do!
URL:https://www.needlehook.com/event/stitch-and-spin-2/2026-10-01/
LOCATION:The Yarn Outfitter\, Arlington\, WA\, 98223
CATEGORIES:Social Stitching Seattle
END:VEVENT
BEGIN:VEVENT
DTSTART;TZID=America/Los_Angeles:20261008T180000
DTEND;TZID=America/Los_Angeles:20261008T210000
DTSTAMP:20260421T025906
CREATED:20250821T180750Z
LAST-MODIFIED:20250904T173735Z
UID:10015590-1791482400-1791493200@www.needlehook.com
SUMMARY:The Yarn Outfitter
DESCRIPTION:Arlington\, WA | Stitch and Spin Together. We care about building a welcoming fiber arts community! We want to be a place where you can meet others that care about the fiber arts as much as you do. Our table is always open (if there isn’t a class)\, but if you would like target days to ensure you meet up with others\, we’ve got you covered! \nGather around our big table and stitch with other people who love stitching as much as you do!
URL:https://www.needlehook.com/event/stitch-and-spin-2/2026-10-08/
LOCATION:The Yarn Outfitter\, Arlington\, WA\, 98223
CATEGORIES:Social Stitching Seattle
END:VEVENT
BEGIN:VEVENT
DTSTART;TZID=America/Los_Angeles:20261015T180000
DTEND;TZID=America/Los_Angeles:20261015T210000
DTSTAMP:20260421T025906
CREATED:20250821T180750Z
LAST-MODIFIED:20250904T173735Z
UID:10015591-1792087200-1792098000@www.needlehook.com
SUMMARY:The Yarn Outfitter
DESCRIPTION:Arlington\, WA | Stitch and Spin Together. We care about building a welcoming fiber arts community! We want to be a place where you can meet others that care about the fiber arts as much as you do. Our table is always open (if there isn’t a class)\, but if you would like target days to ensure you meet up with others\, we’ve got you covered! \nGather around our big table and stitch with other people who love stitching as much as you do!
URL:https://www.needlehook.com/event/stitch-and-spin-2/2026-10-15/
LOCATION:The Yarn Outfitter\, Arlington\, WA\, 98223
CATEGORIES:Social Stitching Seattle
END:VEVENT
BEGIN:VEVENT
DTSTART;TZID=America/Los_Angeles:20261022T180000
DTEND;TZID=America/Los_Angeles:20261022T210000
DTSTAMP:20260421T025906
CREATED:20250821T180750Z
LAST-MODIFIED:20250904T173735Z
UID:10015592-1792692000-1792702800@www.needlehook.com
SUMMARY:The Yarn Outfitter
DESCRIPTION:Arlington\, WA | Stitch and Spin Together. We care about building a welcoming fiber arts community! We want to be a place where you can meet others that care about the fiber arts as much as you do. Our table is always open (if there isn’t a class)\, but if you would like target days to ensure you meet up with others\, we’ve got you covered! \nGather around our big table and stitch with other people who love stitching as much as you do!
URL:https://www.needlehook.com/event/stitch-and-spin-2/2026-10-22/
LOCATION:The Yarn Outfitter\, Arlington\, WA\, 98223
CATEGORIES:Social Stitching Seattle
END:VEVENT
BEGIN:VEVENT
DTSTART;TZID=America/Los_Angeles:20261029T180000
DTEND;TZID=America/Los_Angeles:20261029T210000
DTSTAMP:20260421T025906
CREATED:20250821T180750Z
LAST-MODIFIED:20250904T173735Z
UID:10015593-1793296800-1793307600@www.needlehook.com
SUMMARY:The Yarn Outfitter
DESCRIPTION:Arlington\, WA | Stitch and Spin Together. We care about building a welcoming fiber arts community! We want to be a place where you can meet others that care about the fiber arts as much as you do. Our table is always open (if there isn’t a class)\, but if you would like target days to ensure you meet up with others\, we’ve got you covered! \nGather around our big table and stitch with other people who love stitching as much as you do!
URL:https://www.needlehook.com/event/stitch-and-spin-2/2026-10-29/
LOCATION:The Yarn Outfitter\, Arlington\, WA\, 98223
CATEGORIES:Social Stitching Seattle
END:VEVENT
BEGIN:VEVENT
DTSTART;TZID=America/Los_Angeles:20261105T180000
DTEND;TZID=America/Los_Angeles:20261105T210000
DTSTAMP:20260421T025906
CREATED:20250821T180750Z
LAST-MODIFIED:20250904T173735Z
UID:10015594-1793901600-1793912400@www.needlehook.com
SUMMARY:The Yarn Outfitter
DESCRIPTION:Arlington\, WA | Stitch and Spin Together. We care about building a welcoming fiber arts community! We want to be a place where you can meet others that care about the fiber arts as much as you do. Our table is always open (if there isn’t a class)\, but if you would like target days to ensure you meet up with others\, we’ve got you covered! \nGather around our big table and stitch with other people who love stitching as much as you do!
URL:https://www.needlehook.com/event/stitch-and-spin-2/2026-11-05/
LOCATION:The Yarn Outfitter\, Arlington\, WA\, 98223
CATEGORIES:Social Stitching Seattle
END:VEVENT
BEGIN:VEVENT
DTSTART;TZID=America/Los_Angeles:20261112T180000
DTEND;TZID=America/Los_Angeles:20261112T210000
DTSTAMP:20260421T025906
CREATED:20250821T180750Z
LAST-MODIFIED:20250904T173735Z
UID:10015595-1794506400-1794517200@www.needlehook.com
SUMMARY:The Yarn Outfitter
DESCRIPTION:Arlington\, WA | Stitch and Spin Together. We care about building a welcoming fiber arts community! We want to be a place where you can meet others that care about the fiber arts as much as you do. Our table is always open (if there isn’t a class)\, but if you would like target days to ensure you meet up with others\, we’ve got you covered! \nGather around our big table and stitch with other people who love stitching as much as you do!
URL:https://www.needlehook.com/event/stitch-and-spin-2/2026-11-12/
LOCATION:The Yarn Outfitter\, Arlington\, WA\, 98223
CATEGORIES:Social Stitching Seattle
END:VEVENT
END:VCALENDAR