BEGIN:VCALENDAR
VERSION:2.0
PRODID:-//needlehook - ECPv6.15.15//NONSGML v1.0//EN
CALSCALE:GREGORIAN
METHOD:PUBLISH
X-WR-CALNAME:needlehook
X-ORIGINAL-URL:https://www.needlehook.com
X-WR-CALDESC:Events for needlehook
REFRESH-INTERVAL;VALUE=DURATION:PT1H
X-Robots-Tag:noindex
X-PUBLISHED-TTL:PT1H
BEGIN:VTIMEZONE
TZID:America/Los_Angeles
BEGIN:DAYLIGHT
TZOFFSETFROM:-0800
TZOFFSETTO:-0700
TZNAME:PDT
DTSTART:20250309T100000
END:DAYLIGHT
BEGIN:STANDARD
TZOFFSETFROM:-0700
TZOFFSETTO:-0800
TZNAME:PST
DTSTART:20251102T090000
END:STANDARD
BEGIN:DAYLIGHT
TZOFFSETFROM:-0800
TZOFFSETTO:-0700
TZNAME:PDT
DTSTART:20260308T100000
END:DAYLIGHT
BEGIN:STANDARD
TZOFFSETFROM:-0700
TZOFFSETTO:-0800
TZNAME:PST
DTSTART:20261101T090000
END:STANDARD
BEGIN:DAYLIGHT
TZOFFSETFROM:-0800
TZOFFSETTO:-0700
TZNAME:PDT
DTSTART:20270314T100000
END:DAYLIGHT
BEGIN:STANDARD
TZOFFSETFROM:-0700
TZOFFSETTO:-0800
TZNAME:PST
DTSTART:20271107T090000
END:STANDARD
BEGIN:DAYLIGHT
TZOFFSETFROM:-0800
TZOFFSETTO:-0700
TZNAME:PDT
DTSTART:20280312T100000
END:DAYLIGHT
BEGIN:STANDARD
TZOFFSETFROM:-0700
TZOFFSETTO:-0800
TZNAME:PST
DTSTART:20281105T090000
END:STANDARD
BEGIN:DAYLIGHT
TZOFFSETFROM:-0800
TZOFFSETTO:-0700
TZNAME:PDT
DTSTART:20290311T100000
END:DAYLIGHT
BEGIN:STANDARD
TZOFFSETFROM:-0700
TZOFFSETTO:-0800
TZNAME:PST
DTSTART:20291104T090000
END:STANDARD
END:VTIMEZONE
BEGIN:VEVENT
DTSTART;TZID=America/Los_Angeles:20260520T170000
DTEND;TZID=America/Los_Angeles:20260520T190000
DTSTAMP:20260421T071550
CREATED:20250821T191747Z
LAST-MODIFIED:20250904T171253Z
UID:10018440-1779296400-1779303600@www.needlehook.com
SUMMARY:Great Yarns!
DESCRIPTION:Everett\, WA | Join us at the shop from 5:00 – 7:00 pm for knitting\, crocheting and fun with friends! We will extend a 10% discount on all purchases made while you have fun with us so be sure to stock up on your supplies! Come and join us! \nEvery 1st and 3rd Wednesday of the month! Scheduling Note: We are taking a summer break from stitch night. We will resume meeting in the fall.
URL:https://www.needlehook.com/event/stitch-night-7/2026-05-20/
LOCATION:Great Yarns!\, Everett\, WA\, 98201
CATEGORIES:Social Stitching Seattle
END:VEVENT
BEGIN:VEVENT
DTSTART;TZID=America/Los_Angeles:20260617T170000
DTEND;TZID=America/Los_Angeles:20260617T190000
DTSTAMP:20260421T071550
CREATED:20250821T191747Z
LAST-MODIFIED:20250904T171253Z
UID:10018441-1781715600-1781722800@www.needlehook.com
SUMMARY:Great Yarns!
DESCRIPTION:Everett\, WA | Join us at the shop from 5:00 – 7:00 pm for knitting\, crocheting and fun with friends! We will extend a 10% discount on all purchases made while you have fun with us so be sure to stock up on your supplies! Come and join us! \nEvery 1st and 3rd Wednesday of the month! Scheduling Note: We are taking a summer break from stitch night. We will resume meeting in the fall.
URL:https://www.needlehook.com/event/stitch-night-7/2026-06-17/
LOCATION:Great Yarns!\, Everett\, WA\, 98201
CATEGORIES:Social Stitching Seattle
END:VEVENT
BEGIN:VEVENT
DTSTART;TZID=America/Los_Angeles:20260715T170000
DTEND;TZID=America/Los_Angeles:20260715T190000
DTSTAMP:20260421T071550
CREATED:20250821T191747Z
LAST-MODIFIED:20250904T171253Z
UID:10018442-1784134800-1784142000@www.needlehook.com
SUMMARY:Great Yarns!
DESCRIPTION:Everett\, WA | Join us at the shop from 5:00 – 7:00 pm for knitting\, crocheting and fun with friends! We will extend a 10% discount on all purchases made while you have fun with us so be sure to stock up on your supplies! Come and join us! \nEvery 1st and 3rd Wednesday of the month! Scheduling Note: We are taking a summer break from stitch night. We will resume meeting in the fall.
URL:https://www.needlehook.com/event/stitch-night-7/2026-07-15/
LOCATION:Great Yarns!\, Everett\, WA\, 98201
CATEGORIES:Social Stitching Seattle
END:VEVENT
BEGIN:VEVENT
DTSTART;TZID=America/Los_Angeles:20260819T170000
DTEND;TZID=America/Los_Angeles:20260819T190000
DTSTAMP:20260421T071550
CREATED:20250821T191747Z
LAST-MODIFIED:20250904T171253Z
UID:10018443-1787158800-1787166000@www.needlehook.com
SUMMARY:Great Yarns!
DESCRIPTION:Everett\, WA | Join us at the shop from 5:00 – 7:00 pm for knitting\, crocheting and fun with friends! We will extend a 10% discount on all purchases made while you have fun with us so be sure to stock up on your supplies! Come and join us! \nEvery 1st and 3rd Wednesday of the month! Scheduling Note: We are taking a summer break from stitch night. We will resume meeting in the fall.
URL:https://www.needlehook.com/event/stitch-night-7/2026-08-19/
LOCATION:Great Yarns!\, Everett\, WA\, 98201
CATEGORIES:Social Stitching Seattle
END:VEVENT
BEGIN:VEVENT
DTSTART;TZID=America/Los_Angeles:20260916T170000
DTEND;TZID=America/Los_Angeles:20260916T190000
DTSTAMP:20260421T071550
CREATED:20250821T191747Z
LAST-MODIFIED:20250904T171253Z
UID:10018444-1789578000-1789585200@www.needlehook.com
SUMMARY:Great Yarns!
DESCRIPTION:Everett\, WA | Join us at the shop from 5:00 – 7:00 pm for knitting\, crocheting and fun with friends! We will extend a 10% discount on all purchases made while you have fun with us so be sure to stock up on your supplies! Come and join us! \nEvery 1st and 3rd Wednesday of the month! Scheduling Note: We are taking a summer break from stitch night. We will resume meeting in the fall.
URL:https://www.needlehook.com/event/stitch-night-7/2026-09-16/
LOCATION:Great Yarns!\, Everett\, WA\, 98201
CATEGORIES:Social Stitching Seattle
END:VEVENT
BEGIN:VEVENT
DTSTART;TZID=America/Los_Angeles:20261021T170000
DTEND;TZID=America/Los_Angeles:20261021T190000
DTSTAMP:20260421T071550
CREATED:20250821T191747Z
LAST-MODIFIED:20250904T171253Z
UID:10018445-1792602000-1792609200@www.needlehook.com
SUMMARY:Great Yarns!
DESCRIPTION:Everett\, WA | Join us at the shop from 5:00 – 7:00 pm for knitting\, crocheting and fun with friends! We will extend a 10% discount on all purchases made while you have fun with us so be sure to stock up on your supplies! Come and join us! \nEvery 1st and 3rd Wednesday of the month! Scheduling Note: We are taking a summer break from stitch night. We will resume meeting in the fall.
URL:https://www.needlehook.com/event/stitch-night-7/2026-10-21/
LOCATION:Great Yarns!\, Everett\, WA\, 98201
CATEGORIES:Social Stitching Seattle
END:VEVENT
BEGIN:VEVENT
DTSTART;TZID=America/Los_Angeles:20261118T170000
DTEND;TZID=America/Los_Angeles:20261118T190000
DTSTAMP:20260421T071550
CREATED:20250821T191747Z
LAST-MODIFIED:20250904T171253Z
UID:10018446-1795021200-1795028400@www.needlehook.com
SUMMARY:Great Yarns!
DESCRIPTION:Everett\, WA | Join us at the shop from 5:00 – 7:00 pm for knitting\, crocheting and fun with friends! We will extend a 10% discount on all purchases made while you have fun with us so be sure to stock up on your supplies! Come and join us! \nEvery 1st and 3rd Wednesday of the month! Scheduling Note: We are taking a summer break from stitch night. We will resume meeting in the fall.
URL:https://www.needlehook.com/event/stitch-night-7/2026-11-18/
LOCATION:Great Yarns!\, Everett\, WA\, 98201
CATEGORIES:Social Stitching Seattle
END:VEVENT
BEGIN:VEVENT
DTSTART;TZID=America/Los_Angeles:20261216T170000
DTEND;TZID=America/Los_Angeles:20261216T190000
DTSTAMP:20260421T071550
CREATED:20250821T191747Z
LAST-MODIFIED:20250904T171253Z
UID:10018447-1797440400-1797447600@www.needlehook.com
SUMMARY:Great Yarns!
DESCRIPTION:Everett\, WA | Join us at the shop from 5:00 – 7:00 pm for knitting\, crocheting and fun with friends! We will extend a 10% discount on all purchases made while you have fun with us so be sure to stock up on your supplies! Come and join us! \nEvery 1st and 3rd Wednesday of the month! Scheduling Note: We are taking a summer break from stitch night. We will resume meeting in the fall.
URL:https://www.needlehook.com/event/stitch-night-7/2026-12-16/
LOCATION:Great Yarns!\, Everett\, WA\, 98201
CATEGORIES:Social Stitching Seattle
END:VEVENT
BEGIN:VEVENT
DTSTART;TZID=America/Los_Angeles:20270120T170000
DTEND;TZID=America/Los_Angeles:20270120T190000
DTSTAMP:20260421T071550
CREATED:20250821T191747Z
LAST-MODIFIED:20250904T171253Z
UID:10018448-1800464400-1800471600@www.needlehook.com
SUMMARY:Great Yarns!
DESCRIPTION:Everett\, WA | Join us at the shop from 5:00 – 7:00 pm for knitting\, crocheting and fun with friends! We will extend a 10% discount on all purchases made while you have fun with us so be sure to stock up on your supplies! Come and join us! \nEvery 1st and 3rd Wednesday of the month! Scheduling Note: We are taking a summer break from stitch night. We will resume meeting in the fall.
URL:https://www.needlehook.com/event/stitch-night-7/2027-01-20/
LOCATION:Great Yarns!\, Everett\, WA\, 98201
CATEGORIES:Social Stitching Seattle
END:VEVENT
BEGIN:VEVENT
DTSTART;TZID=America/Los_Angeles:20270217T170000
DTEND;TZID=America/Los_Angeles:20270217T190000
DTSTAMP:20260421T071550
CREATED:20250821T191747Z
LAST-MODIFIED:20250904T171253Z
UID:10018449-1802883600-1802890800@www.needlehook.com
SUMMARY:Great Yarns!
DESCRIPTION:Everett\, WA | Join us at the shop from 5:00 – 7:00 pm for knitting\, crocheting and fun with friends! We will extend a 10% discount on all purchases made while you have fun with us so be sure to stock up on your supplies! Come and join us! \nEvery 1st and 3rd Wednesday of the month! Scheduling Note: We are taking a summer break from stitch night. We will resume meeting in the fall.
URL:https://www.needlehook.com/event/stitch-night-7/2027-02-17/
LOCATION:Great Yarns!\, Everett\, WA\, 98201
CATEGORIES:Social Stitching Seattle
END:VEVENT
BEGIN:VEVENT
DTSTART;TZID=America/Los_Angeles:20270317T170000
DTEND;TZID=America/Los_Angeles:20270317T190000
DTSTAMP:20260421T071550
CREATED:20250821T191747Z
LAST-MODIFIED:20250904T171253Z
UID:10018450-1805302800-1805310000@www.needlehook.com
SUMMARY:Great Yarns!
DESCRIPTION:Everett\, WA | Join us at the shop from 5:00 – 7:00 pm for knitting\, crocheting and fun with friends! We will extend a 10% discount on all purchases made while you have fun with us so be sure to stock up on your supplies! Come and join us! \nEvery 1st and 3rd Wednesday of the month! Scheduling Note: We are taking a summer break from stitch night. We will resume meeting in the fall.
URL:https://www.needlehook.com/event/stitch-night-7/2027-03-17/
LOCATION:Great Yarns!\, Everett\, WA\, 98201
CATEGORIES:Social Stitching Seattle
END:VEVENT
BEGIN:VEVENT
DTSTART;TZID=America/Los_Angeles:20270421T170000
DTEND;TZID=America/Los_Angeles:20270421T190000
DTSTAMP:20260421T071550
CREATED:20250821T191747Z
LAST-MODIFIED:20250904T171253Z
UID:10018451-1808326800-1808334000@www.needlehook.com
SUMMARY:Great Yarns!
DESCRIPTION:Everett\, WA | Join us at the shop from 5:00 – 7:00 pm for knitting\, crocheting and fun with friends! We will extend a 10% discount on all purchases made while you have fun with us so be sure to stock up on your supplies! Come and join us! \nEvery 1st and 3rd Wednesday of the month! Scheduling Note: We are taking a summer break from stitch night. We will resume meeting in the fall.
URL:https://www.needlehook.com/event/stitch-night-7/2027-04-21/
LOCATION:Great Yarns!\, Everett\, WA\, 98201
CATEGORIES:Social Stitching Seattle
END:VEVENT
BEGIN:VEVENT
DTSTART;TZID=America/Los_Angeles:20270519T170000
DTEND;TZID=America/Los_Angeles:20270519T190000
DTSTAMP:20260421T071550
CREATED:20250821T191747Z
LAST-MODIFIED:20250904T171253Z
UID:10018452-1810746000-1810753200@www.needlehook.com
SUMMARY:Great Yarns!
DESCRIPTION:Everett\, WA | Join us at the shop from 5:00 – 7:00 pm for knitting\, crocheting and fun with friends! We will extend a 10% discount on all purchases made while you have fun with us so be sure to stock up on your supplies! Come and join us! \nEvery 1st and 3rd Wednesday of the month! Scheduling Note: We are taking a summer break from stitch night. We will resume meeting in the fall.
URL:https://www.needlehook.com/event/stitch-night-7/2027-05-19/
LOCATION:Great Yarns!\, Everett\, WA\, 98201
CATEGORIES:Social Stitching Seattle
END:VEVENT
BEGIN:VEVENT
DTSTART;TZID=America/Los_Angeles:20270616T170000
DTEND;TZID=America/Los_Angeles:20270616T190000
DTSTAMP:20260421T071550
CREATED:20250821T191747Z
LAST-MODIFIED:20250904T171253Z
UID:10018453-1813165200-1813172400@www.needlehook.com
SUMMARY:Great Yarns!
DESCRIPTION:Everett\, WA | Join us at the shop from 5:00 – 7:00 pm for knitting\, crocheting and fun with friends! We will extend a 10% discount on all purchases made while you have fun with us so be sure to stock up on your supplies! Come and join us! \nEvery 1st and 3rd Wednesday of the month! Scheduling Note: We are taking a summer break from stitch night. We will resume meeting in the fall.
URL:https://www.needlehook.com/event/stitch-night-7/2027-06-16/
LOCATION:Great Yarns!\, Everett\, WA\, 98201
CATEGORIES:Social Stitching Seattle
END:VEVENT
BEGIN:VEVENT
DTSTART;TZID=America/Los_Angeles:20270721T170000
DTEND;TZID=America/Los_Angeles:20270721T190000
DTSTAMP:20260421T071550
CREATED:20250821T191747Z
LAST-MODIFIED:20250904T171253Z
UID:10018454-1816189200-1816196400@www.needlehook.com
SUMMARY:Great Yarns!
DESCRIPTION:Everett\, WA | Join us at the shop from 5:00 – 7:00 pm for knitting\, crocheting and fun with friends! We will extend a 10% discount on all purchases made while you have fun with us so be sure to stock up on your supplies! Come and join us! \nEvery 1st and 3rd Wednesday of the month! Scheduling Note: We are taking a summer break from stitch night. We will resume meeting in the fall.
URL:https://www.needlehook.com/event/stitch-night-7/2027-07-21/
LOCATION:Great Yarns!\, Everett\, WA\, 98201
CATEGORIES:Social Stitching Seattle
END:VEVENT
BEGIN:VEVENT
DTSTART;TZID=America/Los_Angeles:20270818T170000
DTEND;TZID=America/Los_Angeles:20270818T190000
DTSTAMP:20260421T071550
CREATED:20250821T191747Z
LAST-MODIFIED:20250904T171253Z
UID:10018455-1818608400-1818615600@www.needlehook.com
SUMMARY:Great Yarns!
DESCRIPTION:Everett\, WA | Join us at the shop from 5:00 – 7:00 pm for knitting\, crocheting and fun with friends! We will extend a 10% discount on all purchases made while you have fun with us so be sure to stock up on your supplies! Come and join us! \nEvery 1st and 3rd Wednesday of the month! Scheduling Note: We are taking a summer break from stitch night. We will resume meeting in the fall.
URL:https://www.needlehook.com/event/stitch-night-7/2027-08-18/
LOCATION:Great Yarns!\, Everett\, WA\, 98201
CATEGORIES:Social Stitching Seattle
END:VEVENT
BEGIN:VEVENT
DTSTART;TZID=America/Los_Angeles:20270915T170000
DTEND;TZID=America/Los_Angeles:20270915T190000
DTSTAMP:20260421T071550
CREATED:20250821T191747Z
LAST-MODIFIED:20250904T171253Z
UID:10018456-1821027600-1821034800@www.needlehook.com
SUMMARY:Great Yarns!
DESCRIPTION:Everett\, WA | Join us at the shop from 5:00 – 7:00 pm for knitting\, crocheting and fun with friends! We will extend a 10% discount on all purchases made while you have fun with us so be sure to stock up on your supplies! Come and join us! \nEvery 1st and 3rd Wednesday of the month! Scheduling Note: We are taking a summer break from stitch night. We will resume meeting in the fall.
URL:https://www.needlehook.com/event/stitch-night-7/2027-09-15/
LOCATION:Great Yarns!\, Everett\, WA\, 98201
CATEGORIES:Social Stitching Seattle
END:VEVENT
BEGIN:VEVENT
DTSTART;TZID=America/Los_Angeles:20271020T170000
DTEND;TZID=America/Los_Angeles:20271020T190000
DTSTAMP:20260421T071550
CREATED:20250821T191747Z
LAST-MODIFIED:20250904T171253Z
UID:10018457-1824051600-1824058800@www.needlehook.com
SUMMARY:Great Yarns!
DESCRIPTION:Everett\, WA | Join us at the shop from 5:00 – 7:00 pm for knitting\, crocheting and fun with friends! We will extend a 10% discount on all purchases made while you have fun with us so be sure to stock up on your supplies! Come and join us! \nEvery 1st and 3rd Wednesday of the month! Scheduling Note: We are taking a summer break from stitch night. We will resume meeting in the fall.
URL:https://www.needlehook.com/event/stitch-night-7/2027-10-20/
LOCATION:Great Yarns!\, Everett\, WA\, 98201
CATEGORIES:Social Stitching Seattle
END:VEVENT
BEGIN:VEVENT
DTSTART;TZID=America/Los_Angeles:20271117T170000
DTEND;TZID=America/Los_Angeles:20271117T190000
DTSTAMP:20260421T071550
CREATED:20250821T191747Z
LAST-MODIFIED:20250904T171253Z
UID:10018458-1826470800-1826478000@www.needlehook.com
SUMMARY:Great Yarns!
DESCRIPTION:Everett\, WA | Join us at the shop from 5:00 – 7:00 pm for knitting\, crocheting and fun with friends! We will extend a 10% discount on all purchases made while you have fun with us so be sure to stock up on your supplies! Come and join us! \nEvery 1st and 3rd Wednesday of the month! Scheduling Note: We are taking a summer break from stitch night. We will resume meeting in the fall.
URL:https://www.needlehook.com/event/stitch-night-7/2027-11-17/
LOCATION:Great Yarns!\, Everett\, WA\, 98201
CATEGORIES:Social Stitching Seattle
END:VEVENT
BEGIN:VEVENT
DTSTART;TZID=America/Los_Angeles:20271215T170000
DTEND;TZID=America/Los_Angeles:20271215T190000
DTSTAMP:20260421T071550
CREATED:20250821T191747Z
LAST-MODIFIED:20250904T171253Z
UID:10018459-1828890000-1828897200@www.needlehook.com
SUMMARY:Great Yarns!
DESCRIPTION:Everett\, WA | Join us at the shop from 5:00 – 7:00 pm for knitting\, crocheting and fun with friends! We will extend a 10% discount on all purchases made while you have fun with us so be sure to stock up on your supplies! Come and join us! \nEvery 1st and 3rd Wednesday of the month! Scheduling Note: We are taking a summer break from stitch night. We will resume meeting in the fall.
URL:https://www.needlehook.com/event/stitch-night-7/2027-12-15/
LOCATION:Great Yarns!\, Everett\, WA\, 98201
CATEGORIES:Social Stitching Seattle
END:VEVENT
BEGIN:VEVENT
DTSTART;TZID=America/Los_Angeles:20280119T170000
DTEND;TZID=America/Los_Angeles:20280119T190000
DTSTAMP:20260421T071550
CREATED:20250821T191747Z
LAST-MODIFIED:20250904T171253Z
UID:10018460-1831914000-1831921200@www.needlehook.com
SUMMARY:Great Yarns!
DESCRIPTION:Everett\, WA | Join us at the shop from 5:00 – 7:00 pm for knitting\, crocheting and fun with friends! We will extend a 10% discount on all purchases made while you have fun with us so be sure to stock up on your supplies! Come and join us! \nEvery 1st and 3rd Wednesday of the month! Scheduling Note: We are taking a summer break from stitch night. We will resume meeting in the fall.
URL:https://www.needlehook.com/event/stitch-night-7/2028-01-19/
LOCATION:Great Yarns!\, Everett\, WA\, 98201
CATEGORIES:Social Stitching Seattle
END:VEVENT
BEGIN:VEVENT
DTSTART;TZID=America/Los_Angeles:20280216T170000
DTEND;TZID=America/Los_Angeles:20280216T190000
DTSTAMP:20260421T071550
CREATED:20250821T191747Z
LAST-MODIFIED:20250904T171253Z
UID:10018461-1834333200-1834340400@www.needlehook.com
SUMMARY:Great Yarns!
DESCRIPTION:Everett\, WA | Join us at the shop from 5:00 – 7:00 pm for knitting\, crocheting and fun with friends! We will extend a 10% discount on all purchases made while you have fun with us so be sure to stock up on your supplies! Come and join us! \nEvery 1st and 3rd Wednesday of the month! Scheduling Note: We are taking a summer break from stitch night. We will resume meeting in the fall.
URL:https://www.needlehook.com/event/stitch-night-7/2028-02-16/
LOCATION:Great Yarns!\, Everett\, WA\, 98201
CATEGORIES:Social Stitching Seattle
END:VEVENT
BEGIN:VEVENT
DTSTART;TZID=America/Los_Angeles:20280315T170000
DTEND;TZID=America/Los_Angeles:20280315T190000
DTSTAMP:20260421T071550
CREATED:20250821T191747Z
LAST-MODIFIED:20250904T171253Z
UID:10018462-1836752400-1836759600@www.needlehook.com
SUMMARY:Great Yarns!
DESCRIPTION:Everett\, WA | Join us at the shop from 5:00 – 7:00 pm for knitting\, crocheting and fun with friends! We will extend a 10% discount on all purchases made while you have fun with us so be sure to stock up on your supplies! Come and join us! \nEvery 1st and 3rd Wednesday of the month! Scheduling Note: We are taking a summer break from stitch night. We will resume meeting in the fall.
URL:https://www.needlehook.com/event/stitch-night-7/2028-03-15/
LOCATION:Great Yarns!\, Everett\, WA\, 98201
CATEGORIES:Social Stitching Seattle
END:VEVENT
BEGIN:VEVENT
DTSTART;TZID=America/Los_Angeles:20280419T170000
DTEND;TZID=America/Los_Angeles:20280419T190000
DTSTAMP:20260421T071550
CREATED:20250821T191747Z
LAST-MODIFIED:20250904T171253Z
UID:10018463-1839776400-1839783600@www.needlehook.com
SUMMARY:Great Yarns!
DESCRIPTION:Everett\, WA | Join us at the shop from 5:00 – 7:00 pm for knitting\, crocheting and fun with friends! We will extend a 10% discount on all purchases made while you have fun with us so be sure to stock up on your supplies! Come and join us! \nEvery 1st and 3rd Wednesday of the month! Scheduling Note: We are taking a summer break from stitch night. We will resume meeting in the fall.
URL:https://www.needlehook.com/event/stitch-night-7/2028-04-19/
LOCATION:Great Yarns!\, Everett\, WA\, 98201
CATEGORIES:Social Stitching Seattle
END:VEVENT
BEGIN:VEVENT
DTSTART;TZID=America/Los_Angeles:20280517T170000
DTEND;TZID=America/Los_Angeles:20280517T190000
DTSTAMP:20260421T071550
CREATED:20250821T191747Z
LAST-MODIFIED:20250904T171253Z
UID:10018464-1842195600-1842202800@www.needlehook.com
SUMMARY:Great Yarns!
DESCRIPTION:Everett\, WA | Join us at the shop from 5:00 – 7:00 pm for knitting\, crocheting and fun with friends! We will extend a 10% discount on all purchases made while you have fun with us so be sure to stock up on your supplies! Come and join us! \nEvery 1st and 3rd Wednesday of the month! Scheduling Note: We are taking a summer break from stitch night. We will resume meeting in the fall.
URL:https://www.needlehook.com/event/stitch-night-7/2028-05-17/
LOCATION:Great Yarns!\, Everett\, WA\, 98201
CATEGORIES:Social Stitching Seattle
END:VEVENT
BEGIN:VEVENT
DTSTART;TZID=America/Los_Angeles:20280621T170000
DTEND;TZID=America/Los_Angeles:20280621T190000
DTSTAMP:20260421T071550
CREATED:20250821T191747Z
LAST-MODIFIED:20250904T171253Z
UID:10018465-1845219600-1845226800@www.needlehook.com
SUMMARY:Great Yarns!
DESCRIPTION:Everett\, WA | Join us at the shop from 5:00 – 7:00 pm for knitting\, crocheting and fun with friends! We will extend a 10% discount on all purchases made while you have fun with us so be sure to stock up on your supplies! Come and join us! \nEvery 1st and 3rd Wednesday of the month! Scheduling Note: We are taking a summer break from stitch night. We will resume meeting in the fall.
URL:https://www.needlehook.com/event/stitch-night-7/2028-06-21/
LOCATION:Great Yarns!\, Everett\, WA\, 98201
CATEGORIES:Social Stitching Seattle
END:VEVENT
BEGIN:VEVENT
DTSTART;TZID=America/Los_Angeles:20280719T170000
DTEND;TZID=America/Los_Angeles:20280719T190000
DTSTAMP:20260421T071550
CREATED:20250821T191747Z
LAST-MODIFIED:20250904T171253Z
UID:10018466-1847638800-1847646000@www.needlehook.com
SUMMARY:Great Yarns!
DESCRIPTION:Everett\, WA | Join us at the shop from 5:00 – 7:00 pm for knitting\, crocheting and fun with friends! We will extend a 10% discount on all purchases made while you have fun with us so be sure to stock up on your supplies! Come and join us! \nEvery 1st and 3rd Wednesday of the month! Scheduling Note: We are taking a summer break from stitch night. We will resume meeting in the fall.
URL:https://www.needlehook.com/event/stitch-night-7/2028-07-19/
LOCATION:Great Yarns!\, Everett\, WA\, 98201
CATEGORIES:Social Stitching Seattle
END:VEVENT
BEGIN:VEVENT
DTSTART;TZID=America/Los_Angeles:20280816T170000
DTEND;TZID=America/Los_Angeles:20280816T190000
DTSTAMP:20260421T071550
CREATED:20250821T191747Z
LAST-MODIFIED:20250904T171253Z
UID:10018467-1850058000-1850065200@www.needlehook.com
SUMMARY:Great Yarns!
DESCRIPTION:Everett\, WA | Join us at the shop from 5:00 – 7:00 pm for knitting\, crocheting and fun with friends! We will extend a 10% discount on all purchases made while you have fun with us so be sure to stock up on your supplies! Come and join us! \nEvery 1st and 3rd Wednesday of the month! Scheduling Note: We are taking a summer break from stitch night. We will resume meeting in the fall.
URL:https://www.needlehook.com/event/stitch-night-7/2028-08-16/
LOCATION:Great Yarns!\, Everett\, WA\, 98201
CATEGORIES:Social Stitching Seattle
END:VEVENT
BEGIN:VEVENT
DTSTART;TZID=America/Los_Angeles:20280920T170000
DTEND;TZID=America/Los_Angeles:20280920T190000
DTSTAMP:20260421T071550
CREATED:20250821T191747Z
LAST-MODIFIED:20250904T171253Z
UID:10018468-1853082000-1853089200@www.needlehook.com
SUMMARY:Great Yarns!
DESCRIPTION:Everett\, WA | Join us at the shop from 5:00 – 7:00 pm for knitting\, crocheting and fun with friends! We will extend a 10% discount on all purchases made while you have fun with us so be sure to stock up on your supplies! Come and join us! \nEvery 1st and 3rd Wednesday of the month! Scheduling Note: We are taking a summer break from stitch night. We will resume meeting in the fall.
URL:https://www.needlehook.com/event/stitch-night-7/2028-09-20/
LOCATION:Great Yarns!\, Everett\, WA\, 98201
CATEGORIES:Social Stitching Seattle
END:VEVENT
BEGIN:VEVENT
DTSTART;TZID=America/Los_Angeles:20281018T170000
DTEND;TZID=America/Los_Angeles:20281018T190000
DTSTAMP:20260421T071550
CREATED:20250821T191747Z
LAST-MODIFIED:20250904T171253Z
UID:10018469-1855501200-1855508400@www.needlehook.com
SUMMARY:Great Yarns!
DESCRIPTION:Everett\, WA | Join us at the shop from 5:00 – 7:00 pm for knitting\, crocheting and fun with friends! We will extend a 10% discount on all purchases made while you have fun with us so be sure to stock up on your supplies! Come and join us! \nEvery 1st and 3rd Wednesday of the month! Scheduling Note: We are taking a summer break from stitch night. We will resume meeting in the fall.
URL:https://www.needlehook.com/event/stitch-night-7/2028-10-18/
LOCATION:Great Yarns!\, Everett\, WA\, 98201
CATEGORIES:Social Stitching Seattle
END:VEVENT
END:VCALENDAR