BEGIN:VCALENDAR
VERSION:2.0
PRODID:-//needlehook - ECPv6.15.15//NONSGML v1.0//EN
CALSCALE:GREGORIAN
METHOD:PUBLISH
X-WR-CALNAME:needlehook
X-ORIGINAL-URL:https://www.needlehook.com
X-WR-CALDESC:Events for needlehook
REFRESH-INTERVAL;VALUE=DURATION:PT1H
X-Robots-Tag:noindex
X-PUBLISHED-TTL:PT1H
BEGIN:VTIMEZONE
TZID:America/Los_Angeles
BEGIN:DAYLIGHT
TZOFFSETFROM:-0800
TZOFFSETTO:-0700
TZNAME:PDT
DTSTART:20250309T100000
END:DAYLIGHT
BEGIN:STANDARD
TZOFFSETFROM:-0700
TZOFFSETTO:-0800
TZNAME:PST
DTSTART:20251102T090000
END:STANDARD
BEGIN:DAYLIGHT
TZOFFSETFROM:-0800
TZOFFSETTO:-0700
TZNAME:PDT
DTSTART:20260308T100000
END:DAYLIGHT
BEGIN:STANDARD
TZOFFSETFROM:-0700
TZOFFSETTO:-0800
TZNAME:PST
DTSTART:20261101T090000
END:STANDARD
BEGIN:DAYLIGHT
TZOFFSETFROM:-0800
TZOFFSETTO:-0700
TZNAME:PDT
DTSTART:20270314T100000
END:DAYLIGHT
BEGIN:STANDARD
TZOFFSETFROM:-0700
TZOFFSETTO:-0800
TZNAME:PST
DTSTART:20271107T090000
END:STANDARD
END:VTIMEZONE
BEGIN:VEVENT
DTSTART;TZID=America/Los_Angeles:20260420T180000
DTEND;TZID=America/Los_Angeles:20260420T200000
DTSTAMP:20260421T025611
CREATED:20250930T030340Z
LAST-MODIFIED:20250930T030547Z
UID:10021738-1776708000-1776715200@www.needlehook.com
SUMMARY:Western Red Brewing
DESCRIPTION:Poulsbo\, WA | Stitch n’ Bit*h! Calling all stitchers (knitting\, crocheting\, needle point\, cross-stitch\, hand sewing\, etc) for an evening of fellowship while we work on our projects. All ages and skill levels welcome. \nEvent repeated every 1st and 3rd Monday\, monthly.
URL:https://www.needlehook.com/event/western-red-brewing-2/2026-04-20/
LOCATION:Western Red Brewing\, Poulsbo\, WA\, 98370
CATEGORIES:Social Stitching Seattle
END:VEVENT
BEGIN:VEVENT
DTSTART;TZID=America/Los_Angeles:20260420T190000
DTEND;TZID=America/Los_Angeles:20260420T210000
DTSTAMP:20260421T025611
CREATED:20250821T180514Z
LAST-MODIFIED:20250904T191401Z
UID:10008303-1776711600-1776718800@www.needlehook.com
SUMMARY:Tea Cozy Yarn Shop
DESCRIPTION:Seattle\, WA | Mondays\, 7 – 9 pm at Rough & Tumble Pub (5309 – 22nd Ave NW) Bring your project and join us for companionship and making. Hang out\, compare notes\, get questions answered\, and show off your work. We can’t wait to see you!
URL:https://www.needlehook.com/event/makers-circle-rough-tumble-pub/2026-04-20/
LOCATION:The Tea Cozy Yarn Shop\, Seattle\, WA\, 98107
CATEGORIES:Social Stitching Seattle
END:VEVENT
BEGIN:VEVENT
DTSTART;TZID=America/Los_Angeles:20260421T100000
DTEND;TZID=America/Los_Angeles:20260421T120000
DTSTAMP:20260421T025611
CREATED:20250821T180514Z
LAST-MODIFIED:20250904T190231Z
UID:10008562-1776765600-1776772800@www.needlehook.com
SUMMARY:The Yarn Outfitter
DESCRIPTION:Arlington\, WA | We care about building a welcoming fiber arts community! We want to be a place where you can meet others that care about the fiber arts as much as you do. Our table is always open (if there isn’t a class)\, but if you would like target days to ensure you meet up with others\, we’ve got you covered! \nGather around our big table and stitch with other people who love stitching as much as you do!
URL:https://www.needlehook.com/event/stitch-and-spin/2026-04-21/
LOCATION:The Yarn Outfitter\, Arlington\, WA\, 98223
CATEGORIES:Social Stitching Seattle
END:VEVENT
BEGIN:VEVENT
DTSTART;TZID=America/Los_Angeles:20260421T100000
DTEND;TZID=America/Los_Angeles:20260421T120000
DTSTAMP:20260421T025611
CREATED:20250821T180514Z
LAST-MODIFIED:20250904T190325Z
UID:10008821-1776765600-1776772800@www.needlehook.com
SUMMARY:All Wound Up Yarn Shop
DESCRIPTION:Edmonds\, WA | Registration Required! Bring in any portable project and stitch with others who enjoy knitting and crochet.
URL:https://www.needlehook.com/event/fiber-social-registration-required/2026-04-21/
LOCATION:All Wound Up Yarn Shop\, Edmonds\, WA\, 98026
CATEGORIES:Social Stitching Seattle
END:VEVENT
BEGIN:VEVENT
DTSTART;TZID=America/Los_Angeles:20260421T100000
DTEND;TZID=America/Los_Angeles:20260421T120000
DTSTAMP:20260421T025611
CREATED:20250821T180515Z
LAST-MODIFIED:20250904T190531Z
UID:10009080-1776765600-1776772800@www.needlehook.com
SUMMARY:Apple Yarns Store
DESCRIPTION:Bellingham\, WA | Bring your project and knit or crochet with others who share your passions. Social Stitch groups are a great way to make new friends\, be inspired or just to have a little time for yourself. Each group has its own personality; try them all to find your favorite.
URL:https://www.needlehook.com/event/sit-knit-crochet-4/2026-04-21/
LOCATION:Apple Yarns Store\, Bellingham\, WA\, 98229
CATEGORIES:Social Stitching Seattle
END:VEVENT
BEGIN:VEVENT
DTSTART;TZID=America/Los_Angeles:20260421T123000
DTEND;TZID=America/Los_Angeles:20260421T150000
DTSTAMP:20260421T025611
CREATED:20250821T180515Z
LAST-MODIFIED:20250904T190133Z
UID:10009339-1776774600-1776783600@www.needlehook.com
SUMMARY:Quintessential Knits
DESCRIPTION:Duvall\, WA | Knit & Crochet. Bring your project and join us\, as always it’s free!
URL:https://www.needlehook.com/event/group-stitching/2026-04-21/
LOCATION:Quintessential Knits\, Duvall\, WA\, 98019
CATEGORIES:Social Stitching Seattle
END:VEVENT
BEGIN:VEVENT
DTSTART;TZID=America/Los_Angeles:20260421T130000
DTEND;TZID=America/Los_Angeles:20260421T150000
DTSTAMP:20260421T025611
CREATED:20250821T180517Z
LAST-MODIFIED:20250904T185726Z
UID:10009598-1776776400-1776783600@www.needlehook.com
SUMMARY:Seattle Yarn
DESCRIPTION:Seattle\, WA | A weekday afternoon Sit and Stitch for folks who want a mid-week\, mid-day gathering!
URL:https://www.needlehook.com/event/sit-and-stitch-2/2026-04-21/
LOCATION:Seattle Yarn\, Seattle\, WA\, 98116
CATEGORIES:Social Stitching Seattle
END:VEVENT
BEGIN:VEVENT
DTSTART;TZID=America/Los_Angeles:20260421T130000
DTEND;TZID=America/Los_Angeles:20260421T150000
DTSTAMP:20260421T025611
CREATED:20250821T180518Z
LAST-MODIFIED:20250904T190027Z
UID:10009857-1776776400-1776783600@www.needlehook.com
SUMMARY:Stilly River Yarns
DESCRIPTION:Stanwood\, WA | We host social gatherings each week – you’re welcome to come for the whole thing\, or just hang out for a little bit. It’s a great way to meet new people and get inspired by what you see others working on.
URL:https://www.needlehook.com/event/community-crafters-2/2026-04-21/
LOCATION:Stilly River Yarns\, Stanwood\, WA\, 98292
CATEGORIES:Social Stitching Seattle
END:VEVENT
BEGIN:VEVENT
DTSTART;TZID=America/Los_Angeles:20260421T150000
DTEND;TZID=America/Los_Angeles:20260421T180000
DTSTAMP:20260421T025611
CREATED:20250821T180518Z
LAST-MODIFIED:20250904T185637Z
UID:10010116-1776783600-1776794400@www.needlehook.com
SUMMARY:Heart2Heart Knitting and Fiber Arts
DESCRIPTION:Poulsbo\, WA | Bring your projects and come and sit and knit or crochet with us. Join some great conversation and meet new people who love the same hobbies! \nNo charge just great conversation with friends!
URL:https://www.needlehook.com/event/open-craft-2/2026-04-21/
LOCATION:Heart2Heart Knitting and Fiber Arts\, Poulsbo\, WA\, 98370
CATEGORIES:Social Stitching Seattle
END:VEVENT
BEGIN:VEVENT
DTSTART;TZID=America/Los_Angeles:20260421T180000
DTEND;TZID=America/Los_Angeles:20260421T200000
DTSTAMP:20260421T025611
CREATED:20251007T014701Z
LAST-MODIFIED:20251007T014701Z
UID:10021805-1776794400-1776801600@www.needlehook.com
SUMMARY:Emerald City Yarn
DESCRIPTION:Seattle\, WA | Join us for Community Knit and Crochet Night!
URL:https://www.needlehook.com/event/emerald-city-yarn/2026-04-21/
LOCATION:Emerald City Yarn\, Seattle\, WA\, 98103
CATEGORIES:Social Stitching Seattle
END:VEVENT
BEGIN:VEVENT
DTSTART;TZID=America/Los_Angeles:20260421T180000
DTEND;TZID=America/Los_Angeles:20260421T210000
DTSTAMP:20260421T025611
CREATED:20250904T192726Z
LAST-MODIFIED:20251007T014907Z
UID:10020545-1776794400-1776805200@www.needlehook.com
SUMMARY:Stranded by the Sea
DESCRIPTION:Edmonds\, WA | Anyone that spins\, knits\, or crochets of any skill level is welcome to join us for our weekly evening social.
URL:https://www.needlehook.com/event/stranded-by-the-sea-2/2026-04-21/
LOCATION:Stranded by the Sea\, Edmonds\, WA\, 98020
CATEGORIES:Social Stitching Seattle
END:VEVENT
BEGIN:VEVENT
DTSTART;TZID=America/Los_Angeles:20260422T093000
DTEND;TZID=America/Los_Angeles:20260422T110000
DTSTAMP:20260421T025611
CREATED:20250821T180519Z
LAST-MODIFIED:20250904T185142Z
UID:10010634-1776850200-1776855600@www.needlehook.com
SUMMARY:WildFibers
DESCRIPTION:Mount Vernon\, WA | Our regularly scheduled knitting sessions. For anyone who wants to knit in a fun\, casual environment surrounded by other knitters. Bring a friend or come and make new ones. Our open knit sessions are free\, no pre-registration needed.
URL:https://www.needlehook.com/event/sit-stitch/2026-04-22/
LOCATION:WildFibers\, Mount Vernon\, WA\, 98273
CATEGORIES:Social Stitching Seattle
END:VEVENT
BEGIN:VEVENT
DTSTART;TZID=America/Los_Angeles:20260422T100000
DTEND;TZID=America/Los_Angeles:20260422T120000
DTSTAMP:20260421T025611
CREATED:20250821T180618Z
LAST-MODIFIED:20250904T185040Z
UID:10010893-1776852000-1776859200@www.needlehook.com
SUMMARY:The Knitters Studio
DESCRIPTION:Bellevue\, WA | Join us at The Knitters Studio for our weekly social knit and crochet times! Bring your current project or shop for a new one and enjoy a fun evening or morning creating with fellow fiber enthusiasts.
URL:https://www.needlehook.com/event/sip-and-knit-or-crochet-3/2026-04-22/
LOCATION:The Knitters Studio\, Bellevue\, WA\, 98004
CATEGORIES:Social Stitching Seattle
END:VEVENT
BEGIN:VEVENT
DTSTART;TZID=America/Los_Angeles:20260422T120000
DTEND;TZID=America/Los_Angeles:20260422T130000
DTSTAMP:20260421T025611
CREATED:20250904T172256Z
LAST-MODIFIED:20250904T172256Z
UID:10018865-1776859200-1776862800@www.needlehook.com
SUMMARY:Strikke Yarn & Supply
DESCRIPTION:Bothell\, WA | Join us at the shop for some social project time!
URL:https://www.needlehook.com/event/strikke-yarn-supply/2026-04-22/
LOCATION:Strikke Yarn & Supply\, Bothell\, WA\, 98011
CATEGORIES:Social Stitching Seattle
END:VEVENT
BEGIN:VEVENT
DTSTART;TZID=America/Los_Angeles:20260422T130000
DTEND;TZID=America/Los_Angeles:20260422T150000
DTSTAMP:20260421T025611
CREATED:20250821T180618Z
LAST-MODIFIED:20250904T184949Z
UID:10011411-1776862800-1776870000@www.needlehook.com
SUMMARY:All Wound Up Yarn Shop
DESCRIPTION:Edmonds\, WA | Registration Required! Bring in any portable project and stitch with others who enjoy knitting and crochet.
URL:https://www.needlehook.com/event/fiber-social-registration-required-2/2026-04-22/
LOCATION:All Wound Up Yarn Shop\, Edmonds\, WA\, 98026
CATEGORIES:Social Stitching Seattle
END:VEVENT
BEGIN:VEVENT
DTSTART;TZID=America/Los_Angeles:20260422T130000
DTEND;TZID=America/Los_Angeles:20260422T150000
DTSTAMP:20260421T025611
CREATED:20250821T180618Z
LAST-MODIFIED:20250904T184730Z
UID:10011152-1776862800-1776870000@www.needlehook.com
SUMMARY:Needles & Hooks
DESCRIPTION:Lake Forest Park\, WA | Come along for some free and friendly crafty time. We welcome all crafters to join us for free social stitching.
URL:https://www.needlehook.com/event/open-stitch-circle-3/2026-04-22/
LOCATION:Needles & Hooks\, Lake Forest Park\, WA\, 98155
CATEGORIES:Social Stitching Seattle
END:VEVENT
BEGIN:VEVENT
DTSTART;TZID=America/Los_Angeles:20260422T130000
DTEND;TZID=America/Los_Angeles:20260422T150000
DTSTAMP:20260421T025611
CREATED:20250821T180619Z
LAST-MODIFIED:20250904T184835Z
UID:10011670-1776862800-1776870000@www.needlehook.com
SUMMARY:Northwest Yarns
DESCRIPTION:Bellingham\, WA | We have regularly scheduled circles where people bring their knitting\, crocheting\, spinning and other fiber arts projects. Bring your project and join us!
URL:https://www.needlehook.com/event/crafting-circle-3/2026-04-22/
LOCATION:Northwest Yarns & Mercantile\, Bellingham\, WA\, 98225
CATEGORIES:Social Stitching Seattle
END:VEVENT
BEGIN:VEVENT
DTSTART;TZID=America/Los_Angeles:20260422T160000
DTEND;TZID=America/Los_Angeles:20260422T170000
DTSTAMP:20260421T025611
CREATED:20250911T053441Z
LAST-MODIFIED:20250911T053441Z
UID:10020814-1776873600-1776877200@www.needlehook.com
SUMMARY:Free Beginner Knitting Class
DESCRIPTION:If you would like to get your knit on\, please drop in on our free beginning knitting classes! Needles\, hooks and yarns for class are available for purchase at our store – or feel free to bring your own. \nIf you already know how to knit \, but have questions about your project that you would like some assistance with\, feel free to stop by as well!
URL:https://www.needlehook.com/event/free-beginner-knitting-class/2026-04-22/
LOCATION:Northwest Yarns & Mercantile\, Bellingham\, WA\, 98225
CATEGORIES:Knitting
ATTACH;FMTTYPE=image/webp:https://www.needlehook.com/wp-content/uploads/2025/09/1714770612033_ohtjk05c.jpg.webp
END:VEVENT
BEGIN:VEVENT
DTSTART;TZID=America/Los_Angeles:20260422T160000
DTEND;TZID=America/Los_Angeles:20260422T190000
DTSTAMP:20260421T025611
CREATED:20250821T180619Z
LAST-MODIFIED:20250904T184635Z
UID:10011929-1776873600-1776884400@www.needlehook.com
SUMMARY:The Lamb & Kid
DESCRIPTION:Bainbridge Island\, WA  | 4-7 pm Knit Night @ The Lamb & Kid (free and open to all)
URL:https://www.needlehook.com/event/knit-night-7/2026-04-22/
LOCATION:The Lamb & Kid\, Bainbridge Island\, WA\, 98110
CATEGORIES:Social Stitching Seattle
END:VEVENT
BEGIN:VEVENT
DTSTART;TZID=America/Los_Angeles:20260422T180000
DTEND;TZID=America/Los_Angeles:20260422T200000
DTSTAMP:20260421T025611
CREATED:20250821T183500Z
LAST-MODIFIED:20250904T171115Z
UID:10012663-1776880800-1776888000@www.needlehook.com
SUMMARY:Seattle Yarn
DESCRIPTION:Seattle\, WA | Need a little evening knit night vibe? Our Wednesday evening group is back! We hold our evening Sit and Stitch group on the 2nd and 4th Wednesday of each month. For some of these\, we may go next door to our new neighbors\, The Good Society Brewing\, to combine our crafting with snacks and drinks! Keep an eye on our social media for announcements.
URL:https://www.needlehook.com/event/sit-and-stitch-5/2026-04-22/
LOCATION:Seattle Yarn\, Seattle\, WA\, 98116
CATEGORIES:Social Stitching Seattle
END:VEVENT
BEGIN:VEVENT
DTSTART;TZID=America/Los_Angeles:20260423T103000
DTEND;TZID=America/Los_Angeles:20260423T123000
DTSTAMP:20260421T025611
CREATED:20250821T180719Z
LAST-MODIFIED:20250904T193250Z
UID:10012747-1776940200-1776947400@www.needlehook.com
SUMMARY:Quintessential Knits
DESCRIPTION:Duvall\, WA | Spin Group! Bring your project and join us\, as always it’s free!
URL:https://www.needlehook.com/event/spin-group-2/2026-04-23/
LOCATION:Quintessential Knits\, Duvall\, WA\, 98019
CATEGORIES:Social Stitching Seattle
END:VEVENT
BEGIN:VEVENT
DTSTART;TZID=America/Los_Angeles:20260423T110000
DTEND;TZID=America/Los_Angeles:20260423T140000
DTSTAMP:20260421T025611
CREATED:20250821T180720Z
LAST-MODIFIED:20250904T183733Z
UID:10013005-1776942000-1776952800@www.needlehook.com
SUMMARY:Heart2Heart Knitting & Fiber Arts
DESCRIPTION:Poulsbo\, WA | Bring your projects and come and sit and knit or crochet with us. Join some great conversation and meet new people who love the same hobbies! \nNo charge just great conversation with friends!
URL:https://www.needlehook.com/event/open-craft-3/2026-04-23/
LOCATION:Heart2Heart Knitting and Fiber Arts\, Poulsbo\, WA\, 98370
CATEGORIES:Social Stitching Seattle
END:VEVENT
BEGIN:VEVENT
DTSTART;TZID=America/Los_Angeles:20260423T110000
DTEND;TZID=America/Los_Angeles:20260423T150000
DTSTAMP:20260421T025611
CREATED:20250904T192546Z
LAST-MODIFIED:20250904T192546Z
UID:10020025-1776942000-1776956400@www.needlehook.com
SUMMARY:Stranded by the Sea
DESCRIPTION:Edmonds\, WA | Drop in for Daytime Fiber Fun. Anyone that spins\, knits\, or crochets of any skill level is welcome to join us for our weekly daytime social.
URL:https://www.needlehook.com/event/stranded-by-the-sea/2026-04-23/
LOCATION:Stranded by the Sea\, Edmonds\, WA\, 98020
CATEGORIES:Social Stitching Seattle
END:VEVENT
BEGIN:VEVENT
DTSTART;TZID=America/Los_Angeles:20260423T163000
DTEND;TZID=America/Los_Angeles:20260423T190000
DTSTAMP:20260421T025611
CREATED:20250821T180731Z
LAST-MODIFIED:20250904T190831Z
UID:10013263-1776961800-1776970800@www.needlehook.com
SUMMARY:Tea Cozy Yarn Shop
DESCRIPTION:Seattle\, WA | Bring your project and join us for companionship and making. Hang out\, compare notes\, get questions answered\, and show off your work. We can’t wait to see you!
URL:https://www.needlehook.com/event/makers-circle-2/2026-04-23/
LOCATION:The Tea Cozy Yarn Shop\, Seattle\, WA\, 98107
CATEGORIES:Social Stitching Seattle
END:VEVENT
BEGIN:VEVENT
DTSTART;TZID=America/Los_Angeles:20260423T170000
DTEND;TZID=America/Los_Angeles:20260423T200000
DTSTAMP:20260421T025611
CREATED:20250821T180731Z
LAST-MODIFIED:20250904T183416Z
UID:10013521-1776963600-1776974400@www.needlehook.com
SUMMARY:Quintessential Knits
DESCRIPTION:Duvall\, WA | Bring your project and join us\, as always it’s free! Thursday 5:00pm – 8:00pm (Knit\, Crochet\, Spin)
URL:https://www.needlehook.com/event/group-stitching-2/2026-04-23/
LOCATION:Quintessential Knits\, Duvall\, WA\, 98019
CATEGORIES:Social Stitching Seattle
END:VEVENT
BEGIN:VEVENT
DTSTART;TZID=America/Los_Angeles:20260423T173000
DTEND;TZID=America/Los_Angeles:20260423T190000
DTSTAMP:20260421T025611
CREATED:20250821T180732Z
LAST-MODIFIED:20250904T183235Z
UID:10014037-1776965400-1776970800@www.needlehook.com
SUMMARY:Northwest Yarns
DESCRIPTION:Bellingham\, WA | We have regularly scheduled circles where people bring their knitting\, crocheting\, spinning and other fiber arts projects. Bring your project and join us!
URL:https://www.needlehook.com/event/crafting-circle-4/2026-04-23/
LOCATION:Northwest Yarns & Mercantile\, Bellingham\, WA\, 98225
CATEGORIES:Social Stitching Seattle
END:VEVENT
BEGIN:VEVENT
DTSTART;TZID=America/Los_Angeles:20260423T173000
DTEND;TZID=America/Los_Angeles:20260423T193000
DTSTAMP:20260421T025611
CREATED:20250821T180732Z
LAST-MODIFIED:20250904T183105Z
UID:10014295-1776965400-1776972600@www.needlehook.com
SUMMARY:WildFibers
DESCRIPTION:Mount Vernon\, WA | “Knit Night” might be the catchiest name\, but all fiber arts are welcome here! Whether you’re a working on a project that’s knit\, crochet\, needlepoint\, felting or more\, feel free to join us and enjoy a relaxing time to craft with a like-minded crowd. Our open knit sessions are free\, no pre-registration needed. \nThursday evenings 5:30 p.m. to 7:30 p.m.
URL:https://www.needlehook.com/event/knit-night-8/2026-04-23/
LOCATION:WildFibers\, Mount Vernon\, WA\, 98273
CATEGORIES:Social Stitching Seattle
END:VEVENT
BEGIN:VEVENT
DTSTART;TZID=America/Los_Angeles:20260423T173000
DTEND;TZID=America/Los_Angeles:20260423T200000
DTSTAMP:20260421T025611
CREATED:20250821T180732Z
LAST-MODIFIED:20250904T174403Z
UID:10013779-1776965400-1776974400@www.needlehook.com
SUMMARY:Bazaar Girls Yarn Shop
DESCRIPTION:Port Townsend\, WA | Nip ‘n’ Knit! You don’t have to drink alcohol\, but you do have to be old enough to do so. Crafting time for adults. Everyone over 21 is welcome.
URL:https://www.needlehook.com/event/nip-n-knit-2/2026-04-23/
LOCATION:Bazaar Girls Yarn Shop\, Port Townsend\, WA\, 98368
CATEGORIES:Social Stitching Seattle
END:VEVENT
BEGIN:VEVENT
DTSTART;TZID=America/Los_Angeles:20260423T180000
DTEND;TZID=America/Los_Angeles:20260423T200000
DTSTAMP:20260421T025611
CREATED:20250821T180745Z
LAST-MODIFIED:20250904T173838Z
UID:10014553-1776967200-1776974400@www.needlehook.com
SUMMARY:Acorn Street Shop
DESCRIPTION:Seattle\, WA | Knit Night! Bring your WIPs ans show-and-tells for a social evening filled with fiber fun. ALL ARE WELCOME! \nWe are now meeting every Thursday evening from 6:00pm – 8:00pm. Since we meet after closing the blinds will be drawn but the front door will be unlocked so come on in when you arrive.
URL:https://www.needlehook.com/event/knit-night-9/2026-04-23/
LOCATION:Acorn Street Shop\, Seattle\, WA\, 98105
CATEGORIES:Social Stitching Seattle
END:VEVENT
BEGIN:VEVENT
DTSTART;TZID=America/Los_Angeles:20260423T180000
DTEND;TZID=America/Los_Angeles:20260423T200000
DTSTAMP:20260421T025611
CREATED:20250821T180745Z
LAST-MODIFIED:20250904T174059Z
UID:10014990-1776967200-1776974400@www.needlehook.com
SUMMARY:Needles & Hooks
DESCRIPTION:Lake Forest Park\, WA | Come along for some free and friendly crafty time. We welcome all crafters to join us for free social stitching.
URL:https://www.needlehook.com/event/open-stitch-circle-4/2026-04-23/
LOCATION:Needles & Hooks\, Lake Forest Park\, WA\, 98155
CATEGORIES:Social Stitching Seattle
END:VEVENT
END:VCALENDAR