BEGIN:VCALENDAR
VERSION:2.0
PRODID:-//needlehook - ECPv6.15.15//NONSGML v1.0//EN
CALSCALE:GREGORIAN
METHOD:PUBLISH
X-WR-CALNAME:needlehook
X-ORIGINAL-URL:https://www.needlehook.com
X-WR-CALDESC:Events for needlehook
REFRESH-INTERVAL;VALUE=DURATION:PT1H
X-Robots-Tag:noindex
X-PUBLISHED-TTL:PT1H
BEGIN:VTIMEZONE
TZID:America/Los_Angeles
BEGIN:DAYLIGHT
TZOFFSETFROM:-0800
TZOFFSETTO:-0700
TZNAME:PDT
DTSTART:20240310T100000
END:DAYLIGHT
BEGIN:STANDARD
TZOFFSETFROM:-0700
TZOFFSETTO:-0800
TZNAME:PST
DTSTART:20241103T090000
END:STANDARD
BEGIN:DAYLIGHT
TZOFFSETFROM:-0800
TZOFFSETTO:-0700
TZNAME:PDT
DTSTART:20250309T100000
END:DAYLIGHT
BEGIN:STANDARD
TZOFFSETFROM:-0700
TZOFFSETTO:-0800
TZNAME:PST
DTSTART:20251102T090000
END:STANDARD
BEGIN:DAYLIGHT
TZOFFSETFROM:-0800
TZOFFSETTO:-0700
TZNAME:PDT
DTSTART:20260308T100000
END:DAYLIGHT
BEGIN:STANDARD
TZOFFSETFROM:-0700
TZOFFSETTO:-0800
TZNAME:PST
DTSTART:20261101T090000
END:STANDARD
BEGIN:DAYLIGHT
TZOFFSETFROM:-0800
TZOFFSETTO:-0700
TZNAME:PDT
DTSTART:20270314T100000
END:DAYLIGHT
BEGIN:STANDARD
TZOFFSETFROM:-0700
TZOFFSETTO:-0800
TZNAME:PST
DTSTART:20271107T090000
END:STANDARD
END:VTIMEZONE
BEGIN:VEVENT
DTSTART;TZID=America/Los_Angeles:20260421T180000
DTEND;TZID=America/Los_Angeles:20260421T210000
DTSTAMP:20260422T083317
CREATED:20250904T192726Z
LAST-MODIFIED:20251007T014907Z
UID:10020545-1776794400-1776805200@www.needlehook.com
SUMMARY:Stranded by the Sea
DESCRIPTION:Edmonds\, WA | Anyone that spins\, knits\, or crochets of any skill level is welcome to join us for our weekly evening social.
URL:https://www.needlehook.com/event/stranded-by-the-sea-2/2026-04-21/
LOCATION:Stranded by the Sea\, Edmonds\, WA\, 98020
CATEGORIES:Social Stitching Seattle
END:VEVENT
BEGIN:VEVENT
DTSTART;TZID=America/Los_Angeles:20251206T140000
DTEND;TZID=America/Los_Angeles:20251206T153000
DTSTAMP:20260422T083317
CREATED:20250911T155419Z
LAST-MODIFIED:20250911T155419Z
UID:10021326-1765029600-1765035000@www.needlehook.com
SUMMARY:Dyeing Hand Painted Yarn
DESCRIPTION:Dye your own custom yarn with Tara in the Stranded Studio. Tara will guide you through the steps of making your own custom hand-painted skein of yarn using professional quality weak-acid dyes. This workshop will provide instruction\, supplies\, equipment\, and creative time for hand-painting skeins of natural merino wool fiber yarn. Students will be encouraged to experiment with different color patterns for each skein of yarn. \nThis is an introductory level workshop to experience playing with yarn dyes. No prior skills required.
URL:https://www.needlehook.com/event/dyeing-hand-painted-yarn/
LOCATION:Stranded by the Sea\, Edmonds\, WA\, 98020
CATEGORIES:Other
ATTACH;FMTTYPE=image/jpeg:https://www.needlehook.com/wp-content/uploads/2025/09/stranded-by-the-sea-workshop-dyeing-hand-painted-y.jpg
END:VEVENT
BEGIN:VEVENT
DTSTART;TZID=America/Los_Angeles:20251206T120000
DTEND;TZID=America/Los_Angeles:20251206T133000
DTSTAMP:20260422T083317
CREATED:20250911T155431Z
LAST-MODIFIED:20250911T155431Z
UID:10021325-1765022400-1765027800@www.needlehook.com
SUMMARY:Dyeing Hand Painted Yarn
DESCRIPTION:Dye your own custom yarn with Tara in the Stranded Studio. Tara will guide you through the steps of making your own custom hand-painted skein of yarn using professional quality weak-acid dyes. This workshop will provide instruction\, supplies\, equipment\, and creative time for hand-painting skeins of natural merino wool fiber yarn. Students will be encouraged to experiment with different color patterns for each skein of yarn. \nThis is an introductory level workshop to experience playing with yarn dyes. No prior skills required.
URL:https://www.needlehook.com/event/dyeing-hand-painted-yarn-2/
LOCATION:Stranded by the Sea\, Edmonds\, WA\, 98020
CATEGORIES:Other
ATTACH;FMTTYPE=image/jpeg:https://www.needlehook.com/wp-content/uploads/2025/09/stranded-by-the-sea-workshop-dyeing-hand-painted-y.jpg
END:VEVENT
BEGIN:VEVENT
DTSTART;TZID=America/Los_Angeles:20251206T100000
DTEND;TZID=America/Los_Angeles:20251206T113000
DTSTAMP:20260422T083317
CREATED:20250911T155445Z
LAST-MODIFIED:20251130T043259Z
UID:10021324-1765015200-1765020600@www.needlehook.com
SUMMARY:Dyeing Hand Painted Yarn
DESCRIPTION:Dye your own custom yarn with Tara in the Stranded Studio. Tara will guide you through the steps of making your own custom hand-painted skein of yarn using professional quality weak-acid dyes. This workshop will provide instruction\, supplies\, equipment\, and creative time for hand-painting skeins of natural merino wool fiber yarn. Students will be encouraged to experiment with different color patterns for each skein of yarn. \nThis is an introductory level workshop to experience playing with yarn dyes. No prior skills required.
URL:https://www.needlehook.com/event/dyeing-hand-painted-yarn-3/
LOCATION:Stranded by the Sea\, Edmonds\, WA\, 98020
CATEGORIES:Other
ATTACH;FMTTYPE=image/jpeg:https://www.needlehook.com/wp-content/uploads/2025/09/stranded-by-the-sea-workshop-dyeing-hand-painted-y.jpg
END:VEVENT
BEGIN:VEVENT
DTSTART;TZID=America/Los_Angeles:20251108T123000
DTEND;TZID=America/Los_Angeles:20251108T140000
DTSTAMP:20260422T083317
CREATED:20250911T155508Z
LAST-MODIFIED:20250911T155508Z
UID:10021323-1762605000-1762610400@www.needlehook.com
SUMMARY:Learn to Crochet Amigurumi Critters
DESCRIPTION:Introduction to Crocheting Amigurumi Critters. \nAmigurumi is the Japanese art of knitting or crocheting small\, cute\, stuffed yarn animals and creatures.\nStudents may choose to crochet either the Wooly Critters Angora Bunny Dumpling or Jellyfish.\nThe Angora Bunny Dumpling Pattern is included with class.
URL:https://www.needlehook.com/event/learn-to-crochet-amigurumi-critters/
LOCATION:Stranded by the Sea\, Edmonds\, WA\, 98020
CATEGORIES:Crochet
ATTACH;FMTTYPE=image/jpeg:https://www.needlehook.com/wp-content/uploads/2025/09/stranded-by-the-sea-class-learn-to-crochet-amiguru-3.jpg
END:VEVENT
BEGIN:VEVENT
DTSTART;TZID=America/Los_Angeles:20251017T100000
DTEND;TZID=America/Los_Angeles:20251017T120000
DTSTAMP:20260422T083317
CREATED:20251002T202004Z
LAST-MODIFIED:20251002T202004Z
UID:10021772-1760695200-1760702400@www.needlehook.com
SUMMARY:Beginning Wet Felting
DESCRIPTION:Students will learn how to make a basic art felt piece with wool fibers using wet felting techniques. Create a felted art piece that is a landscape\, a seascape\, or beautiful colors in an abstract design. Most finished pieces are about 8×10 to 12×16.
URL:https://www.needlehook.com/event/beginning-wet-felting/
LOCATION:Stranded by the Sea\, Edmonds\, WA\, 98020
CATEGORIES:Other
ATTACH;FMTTYPE=image/webp:https://www.needlehook.com/wp-content/uploads/2025/10/kerri-kirk-instructor-class-beginning-wet-felting.webp
END:VEVENT
BEGIN:VEVENT
DTSTART;TZID=America/Los_Angeles:20251004T150000
DTEND;TZID=America/Los_Angeles:20251004T180000
DTSTAMP:20260422T083317
CREATED:20250911T155310Z
LAST-MODIFIED:20250911T155310Z
UID:10021328-1759590000-1759600800@www.needlehook.com
SUMMARY:Knit the Verdandi Lace Shawl
DESCRIPTION:This pattern is based on a Herbert Niebling lace motif and features a contrast color inset panel. Students will learn the lace motif and shawl setup in the first class\, and then work on the adding the inset color and additional color for the second edging panel.
URL:https://www.needlehook.com/event/knit-the-verdandi-lace-shawl/
LOCATION:Stranded by the Sea\, Edmonds\, WA\, 98020
CATEGORIES:Knitting
ATTACH;FMTTYPE=image/png:https://www.needlehook.com/wp-content/uploads/2025/09/leslie-hamacher-class-knit-the-verdandi-lace-shawl.jpg.png
END:VEVENT
BEGIN:VEVENT
DTSTART;TZID=America/Los_Angeles:20251004T100000
DTEND;TZID=America/Los_Angeles:20251004T140000
DTSTAMP:20260422T083317
CREATED:20250911T155018Z
LAST-MODIFIED:20250911T155018Z
UID:10021332-1759572000-1759586400@www.needlehook.com
SUMMARY:Rigid Heddle Weaving from Start to Finish
DESCRIPTION:Rigid Heddle Weaving from Start to Finish is designed for complete beginners who want to learn the all the basics of weaving on this user-friendly loom. The class will cover the entire weaving process from selecting yarn and reeds sizes\, warping the loom\, threading the reed\, learning tips for good tension\, weaving different patterns\, and finishing. The class is divided into two sessions\, a week apart\, to allow time for working at home in between sessions. Students will warp their loom and start to weave a scarf in the first class\, and finish and start a second sample piece in the second class.
URL:https://www.needlehook.com/event/rigid-heddle-weaving-from-start-to-finish/
LOCATION:Stranded by the Sea\, Edmonds\, WA\, 98020
CATEGORIES:Weaving
ATTACH;FMTTYPE=image/jpeg:https://www.needlehook.com/wp-content/uploads/2025/09/stranded-by-the-sea-weaving-class-rigid-heddle-wea.jpg
END:VEVENT
BEGIN:VEVENT
DTSTART;TZID=America/Los_Angeles:20250927T120000
DTEND;TZID=America/Los_Angeles:20250927T140000
DTSTAMP:20260422T083317
CREATED:20250911T155521Z
LAST-MODIFIED:20250911T155521Z
UID:10021322-1758974400-1758981600@www.needlehook.com
SUMMARY:Crochet 101 with Tara
DESCRIPTION:Learn all the basics of crochet. Students will work on a simple pattern and learn how to read a pattern\, hold and tension yarn\, count stitches\, and make different crochet stitches\, including single crochet\, half-double crochet\, double crochet\, and more.
URL:https://www.needlehook.com/event/crochet-101-with-tara/
LOCATION:Stranded by the Sea\, Edmonds\, WA\, 98020
CATEGORIES:Crochet
ATTACH;FMTTYPE=image/jpeg:https://www.needlehook.com/wp-content/uploads/2025/09/stranded-by-the-sea-class-crochet-101-with-tara.jpg
END:VEVENT
BEGIN:VEVENT
DTSTART;TZID=America/Los_Angeles:20250927T110000
DTEND;TZID=America/Los_Angeles:20250927T123000
DTSTAMP:20260422T083317
CREATED:20250911T155114Z
LAST-MODIFIED:20250911T155114Z
UID:10021331-1758970800-1758976200@www.needlehook.com
SUMMARY:Plying and Finishing Handspun
DESCRIPTION:You’ve spun a single! Now what? Join us for this class to learn techniques for plying yarn on a spinning wheel and finishing your handspun yarn. \nLearn to ply a 2-ply and 3-ply yarn on a wheel. Special techniques include a basic 2-ply yarn\, chain plying a 3-ply yarn\, finishing uneven bobbins or using one single to make a 2-ply yarn with the Andean ply technique. Tips and tricks for successful plying\, unusual fibers\, and finishing yarns.
URL:https://www.needlehook.com/event/plying-and-finishing-handspun/
LOCATION:Stranded by the Sea\, Edmonds\, WA\, 98020
CATEGORIES:Spinning
ATTACH;FMTTYPE=image/jpeg:https://www.needlehook.com/wp-content/uploads/2025/09/char-gascho-instructor-spinning-class-plying-and-f.jpg
END:VEVENT
BEGIN:VEVENT
DTSTART;TZID=America/Los_Angeles:20250923T120000
DTEND;TZID=America/Los_Angeles:20250923T133000
DTSTAMP:20260422T083317
CREATED:20250911T155339Z
LAST-MODIFIED:20250911T155339Z
UID:10021329-1758628800-1758634200@www.needlehook.com
SUMMARY:Anatomy of a Sock
DESCRIPTION:Knitted socks are fashionable\, customizable\, and small projects you can take on the go! \nOn the other hand\, knitting the socks sounds daunting\, makes knitters run in fear\, and can cause the dreaded “second sock” syndrome. \nThe knitting part is really not as complicated as it seems. Depending on the pattern\, a lot of sock knitting is plain stockinette stitch in the round for several inches above the heel and then again before the toe. \nThe tricky techniques in knitting a sock tend to fall into these categories:\nKnitting the correct size\nKnitting the heel\nGrafting the toe (in a top down sock)\nCasting on (in a toe up sock) \nThose techniques will be the focus of this class. We will identity the anatomy of the sock\, knit a heel flap and gusset\, practice the trusty kitchener stitch to graft our toes closed\, learn Judy’s Magic Cast On for toe up socks\, and discuss gauge and taking foot measurements. \nThe end goal will be that after mastering these tricky sock parts\, you will have the confidence to knit socks you can wear or share with pride!
URL:https://www.needlehook.com/event/anatomy-of-a-sock/
LOCATION:Stranded by the Sea\, Edmonds\, WA\, 98020
CATEGORIES:Knitting
ATTACH;FMTTYPE=image/webp:https://www.needlehook.com/wp-content/uploads/2025/09/sethany-knits-class-anatomy-of-a-sock.webp
END:VEVENT
BEGIN:VEVENT
DTSTART;TZID=America/Los_Angeles:20250913T153000
DTEND;TZID=America/Los_Angeles:20250913T173000
DTSTAMP:20260422T083317
CREATED:20250911T155407Z
LAST-MODIFIED:20250911T155407Z
UID:10021327-1757777400-1757784600@www.needlehook.com
SUMMARY:Building Blocks with Lace
DESCRIPTION:Learn to knit lace and build confidence in reading knitting charts at a manageable pace with Michelle Hunter’s Building with Lace booklet lead by Lace Knitting enthusiast\, Bethany Harper. \nEach month students will be guided through a different type of lace. Sample pieces available to see and feel in the Shop. Students will knit a sample size in class and then you will have the month to knit the section on your project. Each section is about 40-50 rows over 120 stitches +/- a few row/stitches so this is very doable in a month’s time. Bring your project to class with you each month so we can show and tell our progress!
URL:https://www.needlehook.com/event/building-blocks-with-lace/
LOCATION:Stranded by the Sea\, Edmonds\, WA\, 98020
CATEGORIES:Knitting
ATTACH;FMTTYPE=image/webp:https://www.needlehook.com/wp-content/uploads/2025/09/sethany-knits-class-building-blocks-with-lace.webp
END:VEVENT
BEGIN:VEVENT
DTSTART;TZID=America/Los_Angeles:20250913T110000
DTEND;TZID=America/Los_Angeles:20250913T130000
DTSTAMP:20260422T083317
CREATED:20250911T155211Z
LAST-MODIFIED:20250911T155223Z
UID:10021330-1757761200-1757768400@www.needlehook.com
SUMMARY:Intro to Spinning Wheel
DESCRIPTION:Learn the basic spinning techniques for spinning on a wheel\, including parts of the wheel\, types of tension\, treadling\, fiber drafting and twist\, and how to spin a single. \nBring your own wheel or rent one of ours.
URL:https://www.needlehook.com/event/intro-to-spinning-wheel/
LOCATION:Stranded by the Sea\, Edmonds\, WA\, 98020
CATEGORIES:Spinning
ATTACH;FMTTYPE=image/jpeg:https://www.needlehook.com/wp-content/uploads/2025/09/char-gascho-instructor-spinning-class-intro-to-spi.jpg
END:VEVENT
END:VCALENDAR