BEGIN:VCALENDAR
VERSION:2.0
PRODID:-//needlehook - ECPv6.15.15//NONSGML v1.0//EN
CALSCALE:GREGORIAN
METHOD:PUBLISH
X-WR-CALNAME:needlehook
X-ORIGINAL-URL:https://www.needlehook.com
X-WR-CALDESC:Events for needlehook
REFRESH-INTERVAL;VALUE=DURATION:PT1H
X-Robots-Tag:noindex
X-PUBLISHED-TTL:PT1H
BEGIN:VTIMEZONE
TZID:America/Los_Angeles
BEGIN:DAYLIGHT
TZOFFSETFROM:-0800
TZOFFSETTO:-0700
TZNAME:PDT
DTSTART:20250309T100000
END:DAYLIGHT
BEGIN:STANDARD
TZOFFSETFROM:-0700
TZOFFSETTO:-0800
TZNAME:PST
DTSTART:20251102T090000
END:STANDARD
BEGIN:DAYLIGHT
TZOFFSETFROM:-0800
TZOFFSETTO:-0700
TZNAME:PDT
DTSTART:20260308T100000
END:DAYLIGHT
BEGIN:STANDARD
TZOFFSETFROM:-0700
TZOFFSETTO:-0800
TZNAME:PST
DTSTART:20261101T090000
END:STANDARD
BEGIN:DAYLIGHT
TZOFFSETFROM:-0800
TZOFFSETTO:-0700
TZNAME:PDT
DTSTART:20270314T100000
END:DAYLIGHT
BEGIN:STANDARD
TZOFFSETFROM:-0700
TZOFFSETTO:-0800
TZNAME:PST
DTSTART:20271107T090000
END:STANDARD
END:VTIMEZONE
BEGIN:VEVENT
DTSTART;TZID=America/Los_Angeles:20260424T180000
DTEND;TZID=America/Los_Angeles:20260424T200000
DTSTAMP:20260424T014938
CREATED:20250821T180752Z
LAST-MODIFIED:20250904T172334Z
UID:10016598-1777053600-1777060800@www.needlehook.com
SUMMARY:Strikke Yarn & Supply
DESCRIPTION:Bothell\, WA | Join us at the shop for some social project time!
URL:https://www.needlehook.com/event/strikke-social-2/2026-04-24/
LOCATION:Strikke Yarn & Supply\, Bothell\, WA\, 98011
CATEGORIES:Social Stitching Seattle
END:VEVENT
END:VCALENDAR